BEGIN:VCALENDAR
VERSION:2.0
PRODID:-//Bradford Education and Training - ECPv6.15.15//NONSGML v1.0//EN
CALSCALE:GREGORIAN
METHOD:PUBLISH
X-WR-CALNAME:Bradford Education and Training
X-ORIGINAL-URL:https://www.bradfordeducationandtraining.nhs.uk
X-WR-CALDESC:Events for Bradford Education and Training
REFRESH-INTERVAL;VALUE=DURATION:PT1H
X-Robots-Tag:noindex
X-PUBLISHED-TTL:PT1H
BEGIN:VTIMEZONE
TZID:Europe/London
BEGIN:DAYLIGHT
TZOFFSETFROM:+0000
TZOFFSETTO:+0100
TZNAME:BST
DTSTART:20240331T010000
END:DAYLIGHT
BEGIN:STANDARD
TZOFFSETFROM:+0100
TZOFFSETTO:+0000
TZNAME:GMT
DTSTART:20241027T010000
END:STANDARD
BEGIN:DAYLIGHT
TZOFFSETFROM:+0000
TZOFFSETTO:+0100
TZNAME:BST
DTSTART:20250330T010000
END:DAYLIGHT
BEGIN:STANDARD
TZOFFSETFROM:+0100
TZOFFSETTO:+0000
TZNAME:GMT
DTSTART:20251026T010000
END:STANDARD
BEGIN:DAYLIGHT
TZOFFSETFROM:+0000
TZOFFSETTO:+0100
TZNAME:BST
DTSTART:20260329T010000
END:DAYLIGHT
BEGIN:STANDARD
TZOFFSETFROM:+0100
TZOFFSETTO:+0000
TZNAME:GMT
DTSTART:20261025T010000
END:STANDARD
BEGIN:DAYLIGHT
TZOFFSETFROM:+0000
TZOFFSETTO:+0100
TZNAME:BST
DTSTART:20270328T010000
END:DAYLIGHT
BEGIN:STANDARD
TZOFFSETFROM:+0100
TZOFFSETTO:+0000
TZNAME:GMT
DTSTART:20271031T010000
END:STANDARD
END:VTIMEZONE
BEGIN:VEVENT
DTSTART;TZID=Europe/London:20260128T080000
DTEND;TZID=Europe/London:20260128T160000
DTSTAMP:20260419T172739
CREATED:20251103T115420Z
LAST-MODIFIED:20251222T125707Z
UID:10000062-1769587200-1769616000@www.bradfordeducationandtraining.nhs.uk
SUMMARY:Basic Life Support (Adult)
DESCRIPTION:Course brochure \nMandatory Adult Basic Life Support (BLS) training. Please book your session through ESR under the heading 389 MAND Basic Life Support. Individual session timings and availability can be viewed directly on ESR—please ensure you book your space in advance to secure a slot.
URL:https://www.bradfordeducationandtraining.nhs.uk/event/basic-life-support-adult-4/2026-01-28/
LOCATION:Eurich Room\, B Floor\, Field House\, Bradford Royal Infirmary
CATEGORIES:Resuscitation
END:VEVENT
BEGIN:VEVENT
DTSTART;TZID=Europe/London:20260127T083000
DTEND;TZID=Europe/London:20260127T113000
DTSTAMP:20260419T172739
CREATED:20251119T091810Z
LAST-MODIFIED:20260209T131847Z
UID:10000192-1769502600-1769513400@www.bradfordeducationandtraining.nhs.uk
SUMMARY:SAMs Induction
DESCRIPTION:This course lasts two hours and is designed to update staff on the safe administration of medicines. It will cover local concerns\, policy and guidelines\, providing a refresher for existing practice\, and also a way of disseminating any practice updates. It will include elements of safer prescribing\, management of allergy and patient group directions. \nAimed at Nurses\, Nursing Associated\, Midwives\, Healthcare Assistants and Allied Health Practitioners who administer medication to patients new to the Trust. \nFor bookings\, please email Clinical.Skills@bthft.nhs.uk \nClinical Skills Brochure
URL:https://www.bradfordeducationandtraining.nhs.uk/event/sams-induction-3/2026-01-27/
LOCATION:Clinical Skills Practical Room\, Field House\, Field House\, 20 Smith Lane\, Bradford\, West Yorkshire\, BD9 5HP\, United Kingdom
CATEGORIES:Clinical Skills
ORGANIZER;CN="Clinical Skills":MAILTO:clinical.skills@bthft.nhs.uk
END:VEVENT
BEGIN:VEVENT
DTSTART;TZID=Europe/London:20260127T080000
DTEND;TZID=Europe/London:20260127T160000
DTSTAMP:20260419T172739
CREATED:20251022T144517Z
LAST-MODIFIED:20251107T130233Z
UID:10000022-1769500800-1769529600@www.bradfordeducationandtraining.nhs.uk
SUMMARY:Core Surgical Skills Course - CT2 Plastics
DESCRIPTION:The Core Surgical Training programme is an integral part of the Yorkshie and Humber School of Surgery. \nThe aims of the School of Surgery are: \n\nTo prepare and equip surgeons to meet the challenges of surgical practice and deliver the highest standard of care for patients.\nTo deliver surgical education programmes within Yorkshire and the Humber that meet GMC quality standards and embrace College guidelines and ethos.\nTo recognise and respond to the needs of our trainees\, trainers and their employers.\n\nCore Surgical Training follows the ISCP curriculum which includes generic skills applicable to all surgeons but also prepares trainees for their choice of specialty training. \nCourse Title – Core Surgical Skills – CT2 Plastics \nDate: 27th January 2026 \nBookings:  Please book through MaxCourse -Surgery
URL:https://www.bradfordeducationandtraining.nhs.uk/event/core-surgical-skills-course-ct2-plastics/
CATEGORIES:Technical Skills Lab
END:VEVENT
BEGIN:VEVENT
DTSTART;TZID=Europe/London:20260127T073000
DTEND;TZID=Europe/London:20260127T160000
DTSTAMP:20260419T172739
CREATED:20251107T141600Z
LAST-MODIFIED:20251222T125604Z
UID:10000097-1769499000-1769529600@www.bradfordeducationandtraining.nhs.uk
SUMMARY:ILS (Immediate Life Support) Course
DESCRIPTION:Course brochure \nThis is a Resuscitation Council UK accredited Immediate Life Support (ILS) course. To enquire about course dates and details\, please email bookings.resuscitation@bthft.nhs.uk
URL:https://www.bradfordeducationandtraining.nhs.uk/event/ils-immediate-life-support-course-2/2026-01-27/
LOCATION:Eurich Room\, B Floor\, Field House\, Bradford Royal Infirmary
CATEGORIES:Resuscitation
END:VEVENT
BEGIN:VEVENT
DTSTART;TZID=Europe/London:20260121T073000
DTEND;TZID=Europe/London:20260121T160000
DTSTAMP:20260419T172739
CREATED:20251107T143738Z
LAST-MODIFIED:20251222T125642Z
UID:10000142-1768980600-1769011200@www.bradfordeducationandtraining.nhs.uk
SUMMARY:PILS (Paediatric Immediate Life Support) Course
DESCRIPTION:Course brochure \nThis is a Resuscitation Council UK accredited Paediatric Immediate Life Support (PILS) course. To enquire about course dates and details\, please email bookings.resuscitation@bthft.nhs.uk
URL:https://www.bradfordeducationandtraining.nhs.uk/event/pils-paediatric-immediate-life-support-course-2/2026-01-21/
LOCATION:Eurich Room\, B Floor\, Field House\, Bradford Royal Infirmary
CATEGORIES:Resuscitation
END:VEVENT
BEGIN:VEVENT
DTSTART;TZID=Europe/London:20260120T073000
DTEND;TZID=Europe/London:20260120T160000
DTSTAMP:20260419T172739
CREATED:20251107T142321Z
LAST-MODIFIED:20251222T125728Z
UID:10000121-1768894200-1768924800@www.bradfordeducationandtraining.nhs.uk
SUMMARY:ILSr (Immediate Life Support Recertification) Course
DESCRIPTION:Course brochure \nThis is a Resuscitation Council UK accredited Immediate Life Support Recertification (ILSr) course. To enquire about course dates and details\, please email bookings.resuscitation@bthft.nhs.uk
URL:https://www.bradfordeducationandtraining.nhs.uk/event/ilsr-immediate-life-support-recertification-course/2026-01-20/
LOCATION:Eurich Room\, B Floor\, Field House\, Bradford Royal Infirmary
CATEGORIES:Resuscitation
END:VEVENT
BEGIN:VEVENT
DTSTART;TZID=Europe/London:20260119T073000
DTEND;TZID=Europe/London:20260119T160000
DTSTAMP:20260419T172739
CREATED:20251107T141600Z
LAST-MODIFIED:20251222T125604Z
UID:10000096-1768807800-1768838400@www.bradfordeducationandtraining.nhs.uk
SUMMARY:ILS (Immediate Life Support) Course
DESCRIPTION:Course brochure \nThis is a Resuscitation Council UK accredited Immediate Life Support (ILS) course. To enquire about course dates and details\, please email bookings.resuscitation@bthft.nhs.uk
URL:https://www.bradfordeducationandtraining.nhs.uk/event/ils-immediate-life-support-course-2/2026-01-19/
LOCATION:Eurich Room\, B Floor\, Field House\, Bradford Royal Infirmary
CATEGORIES:Resuscitation
END:VEVENT
BEGIN:VEVENT
DTSTART;TZID=Europe/London:20260116T080000
DTEND;TZID=Europe/London:20260116T180000
DTSTAMP:20260419T172739
CREATED:20251107T135347Z
LAST-MODIFIED:20251222T125626Z
UID:10000081-1768550400-1768586400@www.bradfordeducationandtraining.nhs.uk
SUMMARY:eALS (Advanced Life Support) Course
DESCRIPTION:Course brochure \nThis is a Resuscitation Council UK accredited Advanced Life Support (eALS) course. To enquire about course dates and details\, please email bookings.resuscitation@bthft.nhs.uk
URL:https://www.bradfordeducationandtraining.nhs.uk/event/eals-advanced-life-support-course-2/2026-01-16/
LOCATION:Eurich Room\, B Floor\, Field House\, Bradford Royal Infirmary
CATEGORIES:Resuscitation
END:VEVENT
BEGIN:VEVENT
DTSTART;TZID=Europe/London:20260115T080000
DTEND;TZID=Europe/London:20260115T173000
DTSTAMP:20260419T172739
CREATED:20251107T135347Z
LAST-MODIFIED:20251222T125626Z
UID:10000080-1768464000-1768498200@www.bradfordeducationandtraining.nhs.uk
SUMMARY:eALS (Advanced Life Support) Course
DESCRIPTION:Course brochure \nThis is a Resuscitation Council UK accredited Advanced Life Support (eALS) course. To enquire about course dates and details\, please email bookings.resuscitation@bthft.nhs.uk
URL:https://www.bradfordeducationandtraining.nhs.uk/event/eals-advanced-life-support-course-2/2026-01-15/
LOCATION:Eurich Room\, B Floor\, Field House\, Bradford Royal Infirmary
CATEGORIES:Resuscitation
END:VEVENT
BEGIN:VEVENT
DTSTART;TZID=Europe/London:20260113T080000
DTEND;TZID=Europe/London:20260113T160000
DTSTAMP:20260419T172739
CREATED:20251022T144359Z
LAST-MODIFIED:20251107T130221Z
UID:10000021-1768291200-1768320000@www.bradfordeducationandtraining.nhs.uk
SUMMARY:Core Surgical Skills - CT1 Plastics
DESCRIPTION:The Core Surgical Training programme is an integral part of the Yorkshie and Humber School of Surgery. \nThe aims of the School of Surgery are: \n\nTo prepare and equip surgeons to meet the challenges of surgical practice and deliver the highest standard of care for patients.\nTo deliver surgical education programmes within Yorkshire and the Humber that meet GMC quality standards and embrace College guidelines and ethos.\nTo recognise and respond to the needs of our trainees\, trainers and their employers.\n\nCore Surgical Training follows the ISCP curriculum which includes generic skills applicable to all surgeons but also prepares trainees for their choice of specialty training. \nCourse Title – Core Surgical Skills – CT1 Plastics \nDate: 13th January 2026 \nBookings:  Please book through MaxCourse -Surgery
URL:https://www.bradfordeducationandtraining.nhs.uk/event/core-surgical-skills-ct1-plastics/
LOCATION:Technical Skills Lab\, Field House\, Bradford Royal Infirmary
CATEGORIES:Technical Skills Lab
END:VEVENT
BEGIN:VEVENT
DTSTART;TZID=Europe/London:20260112T073000
DTEND;TZID=Europe/London:20260112T160000
DTSTAMP:20260419T172739
CREATED:20251107T143738Z
LAST-MODIFIED:20251222T125642Z
UID:10000141-1768203000-1768233600@www.bradfordeducationandtraining.nhs.uk
SUMMARY:PILS (Paediatric Immediate Life Support) Course
DESCRIPTION:Course brochure \nThis is a Resuscitation Council UK accredited Paediatric Immediate Life Support (PILS) course. To enquire about course dates and details\, please email bookings.resuscitation@bthft.nhs.uk
URL:https://www.bradfordeducationandtraining.nhs.uk/event/pils-paediatric-immediate-life-support-course-2/2026-01-12/
LOCATION:Eurich Room\, B Floor\, Field House\, Bradford Royal Infirmary
CATEGORIES:Resuscitation
END:VEVENT
BEGIN:VEVENT
DTSTART;VALUE=DATE:20260112
DTEND;VALUE=DATE:20260124
DTSTAMP:20260419T172739
CREATED:20251021T061719Z
LAST-MODIFIED:20251107T130210Z
UID:10000012-1768176000-1769212799@www.bradfordeducationandtraining.nhs.uk
SUMMARY:HCA Bootcamp - January
DESCRIPTION:The 10-day HCA Bootcamp is the trust’s induction programme for new and experienced support workers. It introduces participants to the Care Certificate and provides essential training in safe\, compassionate\, patient-centered care. Delivered by experienced educators\, the programme is open to all clinical non-registrant support roles—not just Healthcare Assistants. \nFor more information contact supportworkerteam@bthft.nhs.uk
URL:https://www.bradfordeducationandtraining.nhs.uk/event/hca-bootcamp-january/
LOCATION:Field House\, Bradford Royal Infirmary\, Bradford\, BD9 6RJ\, United Kingdom
CATEGORIES:Continuing Professional Development
END:VEVENT
BEGIN:VEVENT
DTSTART;TZID=Europe/London:20260109T100000
DTEND;TZID=Europe/London:20260109T120000
DTSTAMP:20260419T172739
CREATED:20260209T131349Z
LAST-MODIFIED:20260209T131349Z
UID:10000214-1767952800-1767960000@www.bradfordeducationandtraining.nhs.uk
SUMMARY:SAMs Update
DESCRIPTION:Location: Clinical Skills Practical Room\, Field House \nFor virtual sessions\, Microsoft Teams link will be sent out to ESR bookings. \nCan be booked via ESR until class is full: \n389 MAND Safe Administration of Medicines – Update \nClinical Skills Brochure \nFor external bookings\, please contact Clinical.Skills@bthft.nhs.uk for more information.
URL:https://www.bradfordeducationandtraining.nhs.uk/event/sams-update-4/2026-01-09/
LOCATION:Clinical Skills Practical Room\, Field House\, Field House\, 20 Smith Lane\, Bradford\, West Yorkshire\, BD9 5HP\, United Kingdom
CATEGORIES:Clinical Skills
ORGANIZER;CN="Clinical Skills":MAILTO:clinical.skills@bthft.nhs.uk
END:VEVENT
BEGIN:VEVENT
DTSTART;TZID=Europe/London:20260108T090000
DTEND;TZID=Europe/London:20260108T120000
DTSTAMP:20260419T172739
CREATED:20251119T091319Z
LAST-MODIFIED:20251119T091319Z
UID:10000190-1767862800-1767873600@www.bradfordeducationandtraining.nhs.uk
SUMMARY:Adult Bowel Care Practical Session
DESCRIPTION:Location: Clinical Skills Practical Room\, Field House \nCan be booked via ESR until class is full: \n389 CLIN Adult Bowel Care Practical Session \nClinical Skills Brochure \nFor external bookings\, please contact Clinical.Skills@bthft.nhs.uk for more information.
URL:https://www.bradfordeducationandtraining.nhs.uk/event/adult-bowel-care-practical-session/
LOCATION:Clinical Skills Practical Room\, Field House\, Field House\, 20 Smith Lane\, Bradford\, West Yorkshire\, BD9 5HP\, United Kingdom
CATEGORIES:Clinical Skills
ORGANIZER;CN="Clinical Skills":MAILTO:clinical.skills@bthft.nhs.uk
END:VEVENT
BEGIN:VEVENT
DTSTART;TZID=Europe/London:20260108T080000
DTEND;TZID=Europe/London:20260108T160000
DTSTAMP:20260419T172739
CREATED:20251103T115420Z
LAST-MODIFIED:20251222T125707Z
UID:10000061-1767859200-1767888000@www.bradfordeducationandtraining.nhs.uk
SUMMARY:Basic Life Support (Adult)
DESCRIPTION:Course brochure \nMandatory Adult Basic Life Support (BLS) training. Please book your session through ESR under the heading 389 MAND Basic Life Support. Individual session timings and availability can be viewed directly on ESR—please ensure you book your space in advance to secure a slot.
URL:https://www.bradfordeducationandtraining.nhs.uk/event/basic-life-support-adult-4/2026-01-08/
LOCATION:Eurich Room\, B Floor\, Field House\, Bradford Royal Infirmary
CATEGORIES:Resuscitation
END:VEVENT
BEGIN:VEVENT
DTSTART;TZID=Europe/London:20260107T130000
DTEND;TZID=Europe/London:20260107T160000
DTSTAMP:20260419T172739
CREATED:20251119T091058Z
LAST-MODIFIED:20251119T091058Z
UID:10000189-1767790800-1767801600@www.bradfordeducationandtraining.nhs.uk
SUMMARY:Chest Drains Care and Management
DESCRIPTION:Location: Clinical Skills Practical Room\, Field House \nCan be booked via ESR until class is full: \n389 CLIN Chest Drains Care and Management \nClinical Skills Brochure \nFor external bookings\, please contact Clinical.Skills@bthft.nhs.uk for more information.
URL:https://www.bradfordeducationandtraining.nhs.uk/event/chest-drains-care-and-management-2/
LOCATION:Clinical Skills Practical Room\, Field House\, Field House\, 20 Smith Lane\, Bradford\, West Yorkshire\, BD9 5HP\, United Kingdom
CATEGORIES:Clinical Skills
ORGANIZER;CN="Clinical Skills":MAILTO:clinical.skills@bthft.nhs.uk
END:VEVENT
BEGIN:VEVENT
DTSTART;TZID=Europe/London:20260107T073000
DTEND;TZID=Europe/London:20260107T160000
DTSTAMP:20260419T172739
CREATED:20251107T142321Z
LAST-MODIFIED:20251222T125728Z
UID:10000120-1767771000-1767801600@www.bradfordeducationandtraining.nhs.uk
SUMMARY:ILSr (Immediate Life Support Recertification) Course
DESCRIPTION:Course brochure \nThis is a Resuscitation Council UK accredited Immediate Life Support Recertification (ILSr) course. To enquire about course dates and details\, please email bookings.resuscitation@bthft.nhs.uk
URL:https://www.bradfordeducationandtraining.nhs.uk/event/ilsr-immediate-life-support-recertification-course/2026-01-07/
LOCATION:Eurich Room\, B Floor\, Field House\, Bradford Royal Infirmary
CATEGORIES:Resuscitation
END:VEVENT
BEGIN:VEVENT
DTSTART;TZID=Europe/London:20260106T130000
DTEND;TZID=Europe/London:20260106T160000
DTSTAMP:20260419T172739
CREATED:20260209T131540Z
LAST-MODIFIED:20260209T131540Z
UID:10000224-1767704400-1767715200@www.bradfordeducationandtraining.nhs.uk
SUMMARY:12 Lead ECG
DESCRIPTION:Location: Clinical Skills Practical Room\, Field House \nCan be booked via ESR until class is full: \n389 GEN Recording a 12 Lead ECG \nClinical Skills Brochure \nFor external bookings\, please contact Clinical.Skills@bthft.nhs.uk for more information.
URL:https://www.bradfordeducationandtraining.nhs.uk/event/12-lead-ecg-3/2026-01-06/
LOCATION:Clinical Skills Practical Room\, Field House\, Field House\, 20 Smith Lane\, Bradford\, West Yorkshire\, BD9 5HP\, United Kingdom
CATEGORIES:Clinical Skills
ORGANIZER;CN="Clinical Skills":MAILTO:clinical.skills@bthft.nhs.uk
END:VEVENT
BEGIN:VEVENT
DTSTART;TZID=Europe/London:20260105T090000
DTEND;TZID=Europe/London:20260105T090000
DTSTAMP:20260419T172739
CREATED:20251023T105041Z
LAST-MODIFIED:20251107T130044Z
UID:10000079-1767603600-1767603600@www.bradfordeducationandtraining.nhs.uk
SUMMARY:Faculty Development Day
DESCRIPTION:Join us for an engaging one-day workshop designed to enhance your simulation-based education expertise. This hands-on session will explore the principles of simulation\, effective debriefing and feedback\, scenario planning\, and the use of high-fidelity manikins in teaching. \n📅 Dates: 5th January 2026📍 Venue: Simulation Centre\, Field House\, Bradford Royal Infirmary🕘 Time: 09:00 – 16:30 \n      Contact: simulation.administration@bthft.nhs.uk \nIdeal for clinicians and AHPs interested in developing their clinical teaching skills.Secure your spot today – email the team at simulation.administration@bthft.nhs.uk
URL:https://www.bradfordeducationandtraining.nhs.uk/event/faculty-development-day/
LOCATION:Simulation Centre\, Field House\, Bradford Royal Infirmary\, Bradford\, BD9 6RJ\, United Kingdom
CATEGORIES:Simulation Training
END:VEVENT
BEGIN:VEVENT
DTSTART;TZID=Europe/London:20251218T130000
DTEND;TZID=Europe/London:20251218T160000
DTSTAMP:20260419T172739
CREATED:20251028T140010Z
LAST-MODIFIED:20260209T131640Z
UID:10000045-1766062800-1766073600@www.bradfordeducationandtraining.nhs.uk
SUMMARY:Venepuncture
DESCRIPTION:Location: Clinical Skills Practical Room\, Field House \nCan be booked via ESR until class is full: \n389 CLIN Venepuncture \nClinical Skills Brochure \nFor external bookings\, please contact Clinical.Skills@bthft.nhs.uk for more information.
URL:https://www.bradfordeducationandtraining.nhs.uk/event/venepuncture/2025-12-18/
LOCATION:Clinical Skills Practical Room\, Field House\, Field House\, 20 Smith Lane\, Bradford\, West Yorkshire\, BD9 5HP\, United Kingdom
CATEGORIES:Clinical Skills
ORGANIZER;CN="Clinical Skills":MAILTO:clinical.skills@bthft.nhs.uk
END:VEVENT
BEGIN:VEVENT
DTSTART;TZID=Europe/London:20251217T073000
DTEND;TZID=Europe/London:20251217T160000
DTSTAMP:20260419T172739
CREATED:20251107T141600Z
LAST-MODIFIED:20251222T125604Z
UID:10000180-1765956600-1765987200@www.bradfordeducationandtraining.nhs.uk
SUMMARY:ILS (Immediate Life Support) Course
DESCRIPTION:Course brochure \nThis is a Resuscitation Council UK accredited Immediate Life Support (ILS) course. To enquire about course dates and details\, please email bookings.resuscitation@bthft.nhs.uk
URL:https://www.bradfordeducationandtraining.nhs.uk/event/ils-immediate-life-support-course-2/2025-12-17/
LOCATION:Eurich Room\, B Floor\, Field House\, Bradford Royal Infirmary
CATEGORIES:Resuscitation
END:VEVENT
BEGIN:VEVENT
DTSTART;TZID=Europe/London:20251216T130000
DTEND;TZID=Europe/London:20251216T150000
DTSTAMP:20260419T172739
CREATED:20251028T135623Z
LAST-MODIFIED:20251118T140147Z
UID:10000041-1765890000-1765897200@www.bradfordeducationandtraining.nhs.uk
SUMMARY:SAMs Update
DESCRIPTION:Location: VIRTUAL SESSION\, Microsoft Teams \nCan be booked via ESR until class is full: \n389 MAND Safe Administration of Medicines – Update \nTeams link will be sent to staff who have booked via ESR \nClinical Skills Brochure \nFor external bookings\, please contact Clinical.Skills@bthft.nhs.uk for more information. \n 
URL:https://www.bradfordeducationandtraining.nhs.uk/event/sams-update-2/
LOCATION:Virtual\, Microsoft Teams
CATEGORIES:Clinical Skills
ORGANIZER;CN="Clinical Skills":MAILTO:clinical.skills@bthft.nhs.uk
END:VEVENT
BEGIN:VEVENT
DTSTART;TZID=Europe/London:20251216T090000
DTEND;TZID=Europe/London:20251216T120000
DTSTAMP:20260419T172739
CREATED:20251028T134508Z
LAST-MODIFIED:20260209T131741Z
UID:10000055-1765875600-1765886400@www.bradfordeducationandtraining.nhs.uk
SUMMARY:Cannulation
DESCRIPTION:Clinical Skills Brochure \nHeld in Clinical Skills Practical Room – Field House \nCan be booked via ESR until class is full: \n389 CLIN Peripheral Cannulation \nFor external bookings\, please contact Clinical.Skills@bthft.nhs.uk for more information.
URL:https://www.bradfordeducationandtraining.nhs.uk/event/cannulation/2025-12-16/
LOCATION:Clinical Skills Practical Room\, Field House\, Field House\, 20 Smith Lane\, Bradford\, West Yorkshire\, BD9 5HP\, United Kingdom
CATEGORIES:Clinical Skills
ORGANIZER;CN="Clinical Skills":MAILTO:clinical.skills@bthft.nhs.uk
END:VEVENT
BEGIN:VEVENT
DTSTART;TZID=Europe/London:20251216T084500
DTEND;TZID=Europe/London:20251216T170000
DTSTAMP:20260419T172739
CREATED:20251022T103949Z
LAST-MODIFIED:20251022T104144Z
UID:10000014-1765874700-1765904400@www.bradfordeducationandtraining.nhs.uk
SUMMARY:Obstetric Anaesthesia Emergencies Course
DESCRIPTION:We’re excited to announce the Obstetric Anesthesia Emergencies Course 2025–2026\, a vital hands-on training designed for anesthesia professionals involved in obstetric care. \nThis course provides participants with the essential knowledge and practical skills to manage high-risk situations in obstetric anesthesia safely and effectively. Through interactive simulations\, expert-led discussions\, and real-world case reviews\, attendees will strengthen their ability to respond confidently to emergencies in the delivery suite. \nWho Should Attend:ACCS Trainees\, Stage 1 & Stage 2 Anaesthesia trainees committed to improving maternal safety and outcomes. \nWhy Attend: \n\nEnhance rapid response and decision-making skills\nGain up-to-date insights from experienced obstetric anesthesiologists\nEarn CPD/CME credits while networking with peers\n\n📅 Course Dates: 16.12.25📍 Location: Simulation Centre\, Field House\, Bradford Royal Infirmary📝 Contact: simulation.administration@bthft.nhs.uk \nDon’t miss this opportunity to advance your expertise and contribute to safer maternity care. \nReserve your place today! \nObstetric Anesthesia Emergencies Course 2025-2026
URL:https://www.bradfordeducationandtraining.nhs.uk/event/obstetric-anaesthesia-emergencies-course/
LOCATION:Simulation Centre\, Field House\, Bradford Royal Infirmary\, Bradford\, BD9 6RJ\, United Kingdom
CATEGORIES:Simulation Training
END:VEVENT
BEGIN:VEVENT
DTSTART;TZID=Europe/London:20251215T080000
DTEND;TZID=Europe/London:20251215T150000
DTSTAMP:20260419T172739
CREATED:20251103T114446Z
LAST-MODIFIED:20251222T125747Z
UID:10000060-1765785600-1765810800@www.bradfordeducationandtraining.nhs.uk
SUMMARY:Basic Life Support (Adult)
DESCRIPTION:Course brochure \nMandatory Adult Basic Life Support (BLS) training. Please book your session through ESR under the heading 389 MAND Basic Life Support. Individual session timings and availability can be viewed directly on ESR—please ensure you book your space in advance to secure a slot.
URL:https://www.bradfordeducationandtraining.nhs.uk/event/basic-life-support-adult-3/
LOCATION:Eurich Room\, B Floor\, Field House\, Bradford Royal Infirmary
CATEGORIES:Resuscitation
END:VEVENT
BEGIN:VEVENT
DTSTART;TZID=Europe/London:20251212T090000
DTEND;TZID=Europe/London:20251212T120000
DTSTAMP:20260419T172739
CREATED:20251028T135839Z
LAST-MODIFIED:20260209T131808Z
UID:10000043-1765530000-1765540800@www.bradfordeducationandtraining.nhs.uk
SUMMARY:CVAD
DESCRIPTION:Location: Clinical Skills Practical Room\, Field House \nCan be booked via ESR until class is full: \n389 CLIN Central Venous Access Devices (CVAD) \nClinical Skills Brochure \nFor external bookings\, please contact Clinical.Skills@bthft.nhs.uk for more information.
URL:https://www.bradfordeducationandtraining.nhs.uk/event/cvad/2025-12-12/
LOCATION:Clinical Skills Practical Room\, Field House\, Field House\, 20 Smith Lane\, Bradford\, West Yorkshire\, BD9 5HP\, United Kingdom
CATEGORIES:Clinical Skills
ORGANIZER;CN="Clinical Skills":MAILTO:clinical.skills@bthft.nhs.uk
END:VEVENT
BEGIN:VEVENT
DTSTART;TZID=Europe/London:20251211T080000
DTEND;TZID=Europe/London:20251212T180000
DTSTAMP:20260419T172739
CREATED:20251107T140150Z
LAST-MODIFIED:20251222T125810Z
UID:10000090-1765440000-1765562400@www.bradfordeducationandtraining.nhs.uk
SUMMARY:GIC (Generic Instructor Course)
DESCRIPTION:Course brochure \nThe Generic Instructor Course trains future Instructors in the principles of adult learning. These skills can then be used to teach fellow healthcare professionals at a number of our courses\, including ALS\, EPALS and NLS. \nThis course is a joint collaboration between Resuscitation Council UK and the Advanced Life Support Group (ALSG). \nTo enquire about course dates and details\, please email bookings.resuscitation@bthft.nhs.uk
URL:https://www.bradfordeducationandtraining.nhs.uk/event/gic-generic-instructor-course/2025-12-11/
LOCATION:Eurich Room\, B Floor\, Field House\, Bradford Royal Infirmary
CATEGORIES:Resuscitation
END:VEVENT
BEGIN:VEVENT
DTSTART;TZID=Europe/London:20251210T083000
DTEND;TZID=Europe/London:20251210T160000
DTSTAMP:20260419T172739
CREATED:20251028T135208Z
LAST-MODIFIED:20251118T140509Z
UID:10000039-1765355400-1765382400@www.bradfordeducationandtraining.nhs.uk
SUMMARY:IV Skills
DESCRIPTION:Understand the legal and professional responsibilities Address the benefits and disadvantages of IV Therapy; Be able to recognise and act upon Anaphylaxis; To identify Drug Calculations requirements; Practical session with a manikin\, becoming familiar with the equipment within the Trust and gaining confidence. Upon completion of this course\, you will gain the Intravenous Drug Administration Theory competency. \nThis course is mandatory and aimed at Nurses\, Midwives and Allied health practitioners who require the theory and skills to administer Intravenous Drug Therapies new to the Trust \nCan be booked by contacting Clinical.Skills@bthft.nhs.uk \nClinical Skills Brochure \nFor external bookings\, please contact Clinical.Skills@bthft.nhs.uk for more information.
URL:https://www.bradfordeducationandtraining.nhs.uk/event/iv-skills/2025-12-10/
LOCATION:Clinical Skills Practical Room\, Field House\, Field House\, 20 Smith Lane\, Bradford\, West Yorkshire\, BD9 5HP\, United Kingdom
CATEGORIES:Clinical Skills
ORGANIZER;CN="Clinical Skills":MAILTO:clinical.skills@bthft.nhs.uk
END:VEVENT
BEGIN:VEVENT
DTSTART;TZID=Europe/London:20251209T130000
DTEND;TZID=Europe/London:20251209T160000
DTSTAMP:20260419T172739
CREATED:20251028T140346Z
LAST-MODIFIED:20251118T140313Z
UID:10000050-1765285200-1765296000@www.bradfordeducationandtraining.nhs.uk
SUMMARY:12 Lead ECG
DESCRIPTION:Location: Clinical Skills Practical Room\, Field House \nCan be booked via ESR until class is full: \n389 GEN Recording a 12 Lead ECG \nClinical Skills Brochure \nFor external bookings\, please contact Clinical.Skills@bthft.nhs.uk for more information.
URL:https://www.bradfordeducationandtraining.nhs.uk/event/12-lead-ecg/2025-12-09/
LOCATION:Clinical Skills Practical Room\, Field House\, Field House\, 20 Smith Lane\, Bradford\, West Yorkshire\, BD9 5HP\, United Kingdom
CATEGORIES:Clinical Skills
ORGANIZER;CN="Clinical Skills":MAILTO:clinical.skills@bthft.nhs.uk
END:VEVENT
BEGIN:VEVENT
DTSTART;TZID=Europe/London:20251209T083000
DTEND;TZID=Europe/London:20251209T113000
DTSTAMP:20260419T172739
CREATED:20251028T134715Z
LAST-MODIFIED:20251107T130133Z
UID:10000035-1765269000-1765279800@www.bradfordeducationandtraining.nhs.uk
SUMMARY:SAMs Induction
DESCRIPTION:This course lasts two hours and is designed to update staff on the safe administration of medicines. It will cover local concerns\, policy and guidelines\, providing a refresher for existing practice\, and also a way of disseminating any practice updates. It will include elements of safer prescribing\, management of allergy and patient group directions. \nAimed at Nurses\, Nursing Associated\, Midwives\, Healthcare Assistants and Allied Health Practitioners who administer medication to patients new to the Trust.
URL:https://www.bradfordeducationandtraining.nhs.uk/event/sams-induction-2/
LOCATION:Clinical Skills Practical Room\, Field House\, Field House\, 20 Smith Lane\, Bradford\, West Yorkshire\, BD9 5HP\, United Kingdom
CATEGORIES:Clinical Skills
ORGANIZER;CN="Clinical Skills":MAILTO:clinical.skills@bthft.nhs.uk
END:VEVENT
END:VCALENDAR