BEGIN:VCALENDAR
VERSION:2.0
PRODID:-//Bradford Education and Training - ECPv6.15.15//NONSGML v1.0//EN
CALSCALE:GREGORIAN
METHOD:PUBLISH
X-WR-CALNAME:Bradford Education and Training
X-ORIGINAL-URL:https://www.bradfordeducationandtraining.nhs.uk
X-WR-CALDESC:Events for Bradford Education and Training
REFRESH-INTERVAL;VALUE=DURATION:PT1H
X-Robots-Tag:noindex
X-PUBLISHED-TTL:PT1H
BEGIN:VTIMEZONE
TZID:Europe/London
BEGIN:DAYLIGHT
TZOFFSETFROM:+0000
TZOFFSETTO:+0100
TZNAME:BST
DTSTART:20240331T010000
END:DAYLIGHT
BEGIN:STANDARD
TZOFFSETFROM:+0100
TZOFFSETTO:+0000
TZNAME:GMT
DTSTART:20241027T010000
END:STANDARD
BEGIN:DAYLIGHT
TZOFFSETFROM:+0000
TZOFFSETTO:+0100
TZNAME:BST
DTSTART:20250330T010000
END:DAYLIGHT
BEGIN:STANDARD
TZOFFSETFROM:+0100
TZOFFSETTO:+0000
TZNAME:GMT
DTSTART:20251026T010000
END:STANDARD
BEGIN:DAYLIGHT
TZOFFSETFROM:+0000
TZOFFSETTO:+0100
TZNAME:BST
DTSTART:20260329T010000
END:DAYLIGHT
BEGIN:STANDARD
TZOFFSETFROM:+0100
TZOFFSETTO:+0000
TZNAME:GMT
DTSTART:20261025T010000
END:STANDARD
END:VTIMEZONE
BEGIN:VEVENT
DTSTART;TZID=Europe/London:20251204T080000
DTEND;TZID=Europe/London:20251204T160000
DTSTAMP:20260419T221931
CREATED:20251103T114403Z
LAST-MODIFIED:20251222T125826Z
UID:10000059-1764835200-1764864000@www.bradfordeducationandtraining.nhs.uk
SUMMARY:Basic Life Support (Adult)
DESCRIPTION:Course brochure \nMandatory Adult Basic Life Support (BLS) training. Please book your session through ESR under the heading 389 MAND Basic Life Support. Individual session timings and availability can be viewed directly on ESR—please ensure you book your space in advance to secure a slot.
URL:https://www.bradfordeducationandtraining.nhs.uk/event/basic-life-support-adult-2/
LOCATION:Eurich Room\, B Floor\, Field House\, Bradford Royal Infirmary
CATEGORIES:Resuscitation
END:VEVENT
BEGIN:VEVENT
DTSTART;TZID=Europe/London:20251202T090000
DTEND;TZID=Europe/London:20251202T123000
DTSTAMP:20260419T221931
CREATED:20260209T131439Z
LAST-MODIFIED:20260209T131439Z
UID:10000219-1764666000-1764678600@www.bradfordeducationandtraining.nhs.uk
SUMMARY:Combined Venepuncture and Cannulation
DESCRIPTION:Location: Clinical Skills Practical Room\, Field House \nCan be booked via ESR until class is full: \n389 CLIN Venepuncture and Cannulation \nClinical Skills Brochure \nFor external bookings\, please contact Clinical.Skills@bthft.nhs.uk for more information.
URL:https://www.bradfordeducationandtraining.nhs.uk/event/combined-venepuncture-and-cannulation-2/2025-12-02/
LOCATION:Clinical Skills Practical Room\, Field House\, Field House\, 20 Smith Lane\, Bradford\, West Yorkshire\, BD9 5HP\, United Kingdom
CATEGORIES:Clinical Skills
ORGANIZER;CN="Clinical Skills":MAILTO:clinical.skills@bthft.nhs.uk
END:VEVENT
BEGIN:VEVENT
DTSTART;TZID=Europe/London:20251202T080000
DTEND;TZID=Europe/London:20251202T160000
DTSTAMP:20260419T221931
CREATED:20251022T144239Z
LAST-MODIFIED:20251107T130003Z
UID:10000019-1764662400-1764691200@www.bradfordeducationandtraining.nhs.uk
SUMMARY:Core Surgical Skills - CT2 Orthopaedics
DESCRIPTION:The Core Surgical Training programme is an integral part of the Yorkshie and Humber School of Surgery. \nThe aims of the School of Surgery are: \n\nTo prepare and equip surgeons to meet the challenges of surgical practice and deliver the highest standard of care for patients.\nTo deliver surgical education programmes within Yorkshire and the Humber that meet GMC quality standards and embrace College guidelines and ethos.\nTo recognise and respond to the needs of our trainees\, trainers and their employers.\n\nCore Surgical Training follows the ISCP curriculum which includes generic skills applicable to all surgeons but also prepares trainees for their choice of specialty training. \nCourse Title – Core Surgical Skills – CT2 Orthopaedics \nDate: 2nd December 2025 \nBookings:  Please book through MaxCourse -Surgery
URL:https://www.bradfordeducationandtraining.nhs.uk/event/core-surgical-skills-ct2-orthopaedics/
LOCATION:Eurich Room\, B Floor\, Field House\, Bradford Royal Infirmary
CATEGORIES:Technical Skills Lab
END:VEVENT
BEGIN:VEVENT
DTSTART;TZID=Europe/London:20251201T090000
DTEND;TZID=Europe/London:20251201T123000
DTSTAMP:20260419T221931
CREATED:20260209T131305Z
LAST-MODIFIED:20260209T131305Z
UID:10000210-1764579600-1764592200@www.bradfordeducationandtraining.nhs.uk
SUMMARY:Combined Catheterisation
DESCRIPTION:Location: Clinical Skills Practical Room\, Field House \nCan be booked via ESR until class is full: \n389 CLIN Combined Catheterisation \nClinical Skills Brochure \nFor external bookings\, please contact Clinical.Skills@bthft.nhs.uk for more information.
URL:https://www.bradfordeducationandtraining.nhs.uk/event/combined-catheterisation-2/2025-12-01/
LOCATION:Clinical Skills Practical Room\, Field House\, Field House\, 20 Smith Lane\, Bradford\, West Yorkshire\, BD9 5HP\, United Kingdom
CATEGORIES:Clinical Skills
ORGANIZER;CN="Clinical Skills":MAILTO:clinical.skills@bthft.nhs.uk
END:VEVENT
BEGIN:VEVENT
DTSTART;TZID=Europe/London:20251201T080000
DTEND;TZID=Europe/London:20251201T160000
DTSTAMP:20260419T221931
CREATED:20251103T131542Z
LAST-MODIFIED:20251222T130001Z
UID:10000072-1764576000-1764604800@www.bradfordeducationandtraining.nhs.uk
SUMMARY:PILS (Paediatric Immediate Life Support) Course
DESCRIPTION:Course brochure \nThis is a Resuscitation Council UK accredited Paediatric Immediate Life Support (PILS) course. To enquire about course dates and details\, please email bookings.resuscitation@bthft.nhs.uk
URL:https://www.bradfordeducationandtraining.nhs.uk/event/pils-paediatric-immediate-life-support-course/2025-12-01/
LOCATION:Eurich Room\, B Floor\, Field House\, Bradford Royal Infirmary
CATEGORIES:Resuscitation
END:VEVENT
BEGIN:VEVENT
DTSTART;TZID=Europe/London:20251128T130000
DTEND;TZID=Europe/London:20251128T163000
DTSTAMP:20260419T221931
CREATED:20260209T131439Z
LAST-MODIFIED:20260209T131439Z
UID:10000218-1764334800-1764347400@www.bradfordeducationandtraining.nhs.uk
SUMMARY:Combined Venepuncture and Cannulation
DESCRIPTION:Location: Clinical Skills Practical Room\, Field House \nCan be booked via ESR until class is full: \n389 CLIN Venepuncture and Cannulation \nClinical Skills Brochure \nFor external bookings\, please contact Clinical.Skills@bthft.nhs.uk for more information.
URL:https://www.bradfordeducationandtraining.nhs.uk/event/combined-venepuncture-and-cannulation-2/2025-11-28/
LOCATION:Clinical Skills Practical Room\, Field House\, Field House\, 20 Smith Lane\, Bradford\, West Yorkshire\, BD9 5HP\, United Kingdom
CATEGORIES:Clinical Skills
ORGANIZER;CN="Clinical Skills":MAILTO:clinical.skills@bthft.nhs.uk
END:VEVENT
BEGIN:VEVENT
DTSTART;TZID=Europe/London:20251128T083000
DTEND;TZID=Europe/London:20251128T160000
DTSTAMP:20260419T221931
CREATED:20251022T133405Z
LAST-MODIFIED:20251107T125945Z
UID:10000016-1764318600-1764345600@www.bradfordeducationandtraining.nhs.uk
SUMMARY:Return to Acute Care Training (ReACT)
DESCRIPTION:We are delighted to announce the Return to Acute Care Training (ReACT) Course\, designed to empower healthcare professionals returning to acute care environments. \nThis comprehensive\, hands-on program provides the perfect opportunity to refresh critical clinical skills\, rebuild confidence\, and reconnect with the latest evidence-based practices in acute care medicine. Through immersive simulation sessions and expert-led teaching\, participants will strengthen their ability to deliver safe\, effective\, and compassionate care in high-acuity settings. \nWhy Join the ReACT Course?✅ Refresh essential acute care knowledge and procedures✅ Gain confidence through high-fidelity simulation training✅ Learn from leading clinicians and educators✅ Network with peers returning to acute clinical practice \nWho Should Attend: This course is for any medical trainee preparing to re-enter acute care after a period away from practice. \n📅 Course Date: 28th November 20252024📍 Location: Simulation Centre\, Field House\, Bradford Royal Infirmary📝 Bookings: england.suppo-rtt.yh@nhs.net \nLimited places available — register today!
URL:https://www.bradfordeducationandtraining.nhs.uk/event/return-to-acute-care-training-react/
LOCATION:Simulation Centre\, Field House\, Bradford Royal Infirmary\, Bradford\, BD9 6RJ\, United Kingdom
CATEGORIES:Simulation Training
END:VEVENT
BEGIN:VEVENT
DTSTART;TZID=Europe/London:20251127T080000
DTEND;TZID=Europe/London:20251127T180000
DTSTAMP:20260419T221931
CREATED:20251103T132903Z
LAST-MODIFIED:20251222T125841Z
UID:10000078-1764230400-1764266400@www.bradfordeducationandtraining.nhs.uk
SUMMARY:NLS (Newborn Life Support) Course
DESCRIPTION:Course brochure \nThis is a Resuscitation Council UK accredited Newborn Life Support (NLS) course. To enquire about course dates and details\, please email bookings.resuscitation@bthft.nhs.uk
URL:https://www.bradfordeducationandtraining.nhs.uk/event/nls-newborn-life-support-course/
LOCATION:Eurich Room\, B Floor\, Field House\, Bradford Royal Infirmary
CATEGORIES:Resuscitation
END:VEVENT
BEGIN:VEVENT
DTSTART;TZID=Europe/London:20251125T130000
DTEND;TZID=Europe/London:20251125T163000
DTSTAMP:20260419T221931
CREATED:20260209T131305Z
LAST-MODIFIED:20260209T131305Z
UID:10000209-1764075600-1764088200@www.bradfordeducationandtraining.nhs.uk
SUMMARY:Combined Catheterisation
DESCRIPTION:Location: Clinical Skills Practical Room\, Field House \nCan be booked via ESR until class is full: \n389 CLIN Combined Catheterisation \nClinical Skills Brochure \nFor external bookings\, please contact Clinical.Skills@bthft.nhs.uk for more information.
URL:https://www.bradfordeducationandtraining.nhs.uk/event/combined-catheterisation-2/2025-11-25/
LOCATION:Clinical Skills Practical Room\, Field House\, Field House\, 20 Smith Lane\, Bradford\, West Yorkshire\, BD9 5HP\, United Kingdom
CATEGORIES:Clinical Skills
ORGANIZER;CN="Clinical Skills":MAILTO:clinical.skills@bthft.nhs.uk
END:VEVENT
BEGIN:VEVENT
DTSTART;TZID=Europe/London:20251125T080000
DTEND;TZID=Europe/London:20251125T160000
DTSTAMP:20260419T221931
CREATED:20251022T143833Z
LAST-MODIFIED:20251107T125915Z
UID:10000018-1764057600-1764086400@www.bradfordeducationandtraining.nhs.uk
SUMMARY:Core Surgical Skills - CT1 Orthopaedics
DESCRIPTION:The Core Surgical Training programme is an integral part of the Yorkshie and Humber School of Surgery. \nThe aims of the School of Surgery are: \n\nTo prepare and equip surgeons to meet the challenges of surgical practice and deliver the highest standard of care for patients.\nTo deliver surgical education programmes within Yorkshire and the Humber that meet GMC quality standards and embrace College guidelines and ethos.\nTo recognise and respond to the needs of our trainees\, trainers and their employers.\n\nCore Surgical Training follows the ISCP curriculum which includes generic skills applicable to all surgeons but also prepares trainees for their choice of specialty training. \nCourse Title – Core Surgical Skills – CT1 Orthopaedics \nDate: 25th November 2025 \nBookings:  Please book through MaxCourse -Surgery
URL:https://www.bradfordeducationandtraining.nhs.uk/event/core-surgical-skills-ct1-orthopaedics/
LOCATION:Technical Skills Lab\, Field House\, Bradford Royal Infirmary
CATEGORIES:Technical Skills Lab
END:VEVENT
BEGIN:VEVENT
DTSTART;TZID=Europe/London:20251124T130000
DTEND;TZID=Europe/London:20251124T160000
DTSTAMP:20260419T221931
CREATED:20251028T140346Z
LAST-MODIFIED:20251118T140313Z
UID:10000049-1763989200-1764000000@www.bradfordeducationandtraining.nhs.uk
SUMMARY:12 Lead ECG
DESCRIPTION:Location: Clinical Skills Practical Room\, Field House \nCan be booked via ESR until class is full: \n389 GEN Recording a 12 Lead ECG \nClinical Skills Brochure \nFor external bookings\, please contact Clinical.Skills@bthft.nhs.uk for more information.
URL:https://www.bradfordeducationandtraining.nhs.uk/event/12-lead-ecg/2025-11-24/
LOCATION:Clinical Skills Practical Room\, Field House\, Field House\, 20 Smith Lane\, Bradford\, West Yorkshire\, BD9 5HP\, United Kingdom
CATEGORIES:Clinical Skills
ORGANIZER;CN="Clinical Skills":MAILTO:clinical.skills@bthft.nhs.uk
END:VEVENT
BEGIN:VEVENT
DTSTART;TZID=Europe/London:20251120T090000
DTEND;TZID=Europe/London:20251120T123000
DTSTAMP:20260419T221931
CREATED:20260209T131305Z
LAST-MODIFIED:20260209T131305Z
UID:10000208-1763629200-1763641800@www.bradfordeducationandtraining.nhs.uk
SUMMARY:Combined Catheterisation
DESCRIPTION:Location: Clinical Skills Practical Room\, Field House \nCan be booked via ESR until class is full: \n389 CLIN Combined Catheterisation \nClinical Skills Brochure \nFor external bookings\, please contact Clinical.Skills@bthft.nhs.uk for more information.
URL:https://www.bradfordeducationandtraining.nhs.uk/event/combined-catheterisation-2/2025-11-20/
LOCATION:Clinical Skills Practical Room\, Field House\, Field House\, 20 Smith Lane\, Bradford\, West Yorkshire\, BD9 5HP\, United Kingdom
CATEGORIES:Clinical Skills
ORGANIZER;CN="Clinical Skills":MAILTO:clinical.skills@bthft.nhs.uk
END:VEVENT
BEGIN:VEVENT
DTSTART;TZID=Europe/London:20251120T073000
DTEND;TZID=Europe/London:20251121T170000
DTSTAMP:20260419T221931
CREATED:20251103T131942Z
LAST-MODIFIED:20251222T125854Z
UID:10000075-1763623800-1763744400@www.bradfordeducationandtraining.nhs.uk
SUMMARY:EPALS (European Paediatric Advanced Life Support) Course
DESCRIPTION:Course brochure \nThis is a Resuscitation Council UK accredited European Paediatric Life Support (EPALS) course. To enquire about course dates and details\, please email bookings.resuscitation@bthft.nhs.uk
URL:https://www.bradfordeducationandtraining.nhs.uk/event/epals-european-paediatric-advanced-life-support-course/
LOCATION:Eurich Room\, B Floor\, Field House\, Bradford Royal Infirmary
CATEGORIES:Resuscitation
END:VEVENT
BEGIN:VEVENT
DTSTART;TZID=Europe/London:20251118T130000
DTEND;TZID=Europe/London:20251118T160000
DTSTAMP:20260419T221931
CREATED:20251028T140010Z
LAST-MODIFIED:20260209T131640Z
UID:10000044-1763470800-1763481600@www.bradfordeducationandtraining.nhs.uk
SUMMARY:Venepuncture
DESCRIPTION:Location: Clinical Skills Practical Room\, Field House \nCan be booked via ESR until class is full: \n389 CLIN Venepuncture \nClinical Skills Brochure \nFor external bookings\, please contact Clinical.Skills@bthft.nhs.uk for more information.
URL:https://www.bradfordeducationandtraining.nhs.uk/event/venepuncture/2025-11-18/
LOCATION:Clinical Skills Practical Room\, Field House\, Field House\, 20 Smith Lane\, Bradford\, West Yorkshire\, BD9 5HP\, United Kingdom
CATEGORIES:Clinical Skills
ORGANIZER;CN="Clinical Skills":MAILTO:clinical.skills@bthft.nhs.uk
END:VEVENT
BEGIN:VEVENT
DTSTART;TZID=Europe/London:20251118T090000
DTEND;TZID=Europe/London:20251118T120000
DTSTAMP:20260419T221931
CREATED:20251028T135839Z
LAST-MODIFIED:20260209T131808Z
UID:10000042-1763456400-1763467200@www.bradfordeducationandtraining.nhs.uk
SUMMARY:CVAD
DESCRIPTION:Location: Clinical Skills Practical Room\, Field House \nCan be booked via ESR until class is full: \n389 CLIN Central Venous Access Devices (CVAD) \nClinical Skills Brochure \nFor external bookings\, please contact Clinical.Skills@bthft.nhs.uk for more information.
URL:https://www.bradfordeducationandtraining.nhs.uk/event/cvad/2025-11-18/
LOCATION:Clinical Skills Practical Room\, Field House\, Field House\, 20 Smith Lane\, Bradford\, West Yorkshire\, BD9 5HP\, United Kingdom
CATEGORIES:Clinical Skills
ORGANIZER;CN="Clinical Skills":MAILTO:clinical.skills@bthft.nhs.uk
END:VEVENT
BEGIN:VEVENT
DTSTART;TZID=Europe/London:20251118T080000
DTEND;TZID=Europe/London:20251118T160000
DTSTAMP:20260419T221931
CREATED:20251103T131542Z
LAST-MODIFIED:20251222T130001Z
UID:10000071-1763452800-1763481600@www.bradfordeducationandtraining.nhs.uk
SUMMARY:PILS (Paediatric Immediate Life Support) Course
DESCRIPTION:Course brochure \nThis is a Resuscitation Council UK accredited Paediatric Immediate Life Support (PILS) course. To enquire about course dates and details\, please email bookings.resuscitation@bthft.nhs.uk
URL:https://www.bradfordeducationandtraining.nhs.uk/event/pils-paediatric-immediate-life-support-course/2025-11-18/
LOCATION:Eurich Room\, B Floor\, Field House\, Bradford Royal Infirmary
CATEGORIES:Resuscitation
END:VEVENT
BEGIN:VEVENT
DTSTART;TZID=Europe/London:20251117T090000
DTEND;TZID=Europe/London:20251117T120000
DTSTAMP:20260419T221931
CREATED:20251028T134508Z
LAST-MODIFIED:20260209T131741Z
UID:10000037-1763370000-1763380800@www.bradfordeducationandtraining.nhs.uk
SUMMARY:Cannulation
DESCRIPTION:Clinical Skills Brochure \nHeld in Clinical Skills Practical Room – Field House \nCan be booked via ESR until class is full: \n389 CLIN Peripheral Cannulation \nFor external bookings\, please contact Clinical.Skills@bthft.nhs.uk for more information.
URL:https://www.bradfordeducationandtraining.nhs.uk/event/cannulation/2025-11-17/
LOCATION:Clinical Skills Practical Room\, Field House\, Field House\, 20 Smith Lane\, Bradford\, West Yorkshire\, BD9 5HP\, United Kingdom
CATEGORIES:Clinical Skills
ORGANIZER;CN="Clinical Skills":MAILTO:clinical.skills@bthft.nhs.uk
END:VEVENT
BEGIN:VEVENT
DTSTART;TZID=Europe/London:20251117T073000
DTEND;TZID=Europe/London:20251117T160000
DTSTAMP:20260419T221931
CREATED:20251107T141600Z
LAST-MODIFIED:20251222T125604Z
UID:10000178-1763364600-1763395200@www.bradfordeducationandtraining.nhs.uk
SUMMARY:ILS (Immediate Life Support) Course
DESCRIPTION:Course brochure \nThis is a Resuscitation Council UK accredited Immediate Life Support (ILS) course. To enquire about course dates and details\, please email bookings.resuscitation@bthft.nhs.uk
URL:https://www.bradfordeducationandtraining.nhs.uk/event/ils-immediate-life-support-course-2/2025-11-17/
LOCATION:Eurich Room\, B Floor\, Field House\, Bradford Royal Infirmary
CATEGORIES:Resuscitation
END:VEVENT
BEGIN:VEVENT
DTSTART;TZID=Europe/London:20251114T073000
DTEND;TZID=Europe/London:20251114T180000
DTSTAMP:20260419T221931
CREATED:20251107T135347Z
LAST-MODIFIED:20251222T125626Z
UID:10000176-1763105400-1763143200@www.bradfordeducationandtraining.nhs.uk
SUMMARY:eALS (Advanced Life Support) Course
DESCRIPTION:Course brochure \nThis is a Resuscitation Council UK accredited Advanced Life Support (eALS) course. To enquire about course dates and details\, please email bookings.resuscitation@bthft.nhs.uk
URL:https://www.bradfordeducationandtraining.nhs.uk/event/eals-advanced-life-support-course-2/2025-11-14/
LOCATION:Eurich Room\, B Floor\, Field House\, Bradford Royal Infirmary
CATEGORIES:Resuscitation
END:VEVENT
BEGIN:VEVENT
DTSTART;TZID=Europe/London:20251113T090000
DTEND;TZID=Europe/London:20251113T110000
DTSTAMP:20260419T221931
CREATED:20251028T135445Z
LAST-MODIFIED:20251107T125732Z
UID:10000040-1763024400-1763031600@www.bradfordeducationandtraining.nhs.uk
SUMMARY:SAMs Update
DESCRIPTION:Location: Teaching Room 2\, Field House \nCan be booked via ESR until class is full: \n389 MAND Safe Administration of Medicines – Update \nClinical Skills Brochure \n 
URL:https://www.bradfordeducationandtraining.nhs.uk/event/sams-update/
LOCATION:Teaching Room 2\, Field House\, Field House\, 20 Smith Lane\, Bradford\, West Yorkshire\, BD9 5HP\, United Kingdom
CATEGORIES:Clinical Skills
ORGANIZER;CN="Clinical Skills":MAILTO:clinical.skills@bthft.nhs.uk
END:VEVENT
BEGIN:VEVENT
DTSTART;TZID=Europe/London:20251113T073000
DTEND;TZID=Europe/London:20251113T180000
DTSTAMP:20260419T221931
CREATED:20251107T135347Z
LAST-MODIFIED:20251222T125626Z
UID:10000175-1763019000-1763056800@www.bradfordeducationandtraining.nhs.uk
SUMMARY:eALS (Advanced Life Support) Course
DESCRIPTION:Course brochure \nThis is a Resuscitation Council UK accredited Advanced Life Support (eALS) course. To enquire about course dates and details\, please email bookings.resuscitation@bthft.nhs.uk
URL:https://www.bradfordeducationandtraining.nhs.uk/event/eals-advanced-life-support-course-2/2025-11-13/
LOCATION:Eurich Room\, B Floor\, Field House\, Bradford Royal Infirmary
CATEGORIES:Resuscitation
END:VEVENT
BEGIN:VEVENT
DTSTART;TZID=Europe/London:20251112T083000
DTEND;TZID=Europe/London:20251112T160000
DTSTAMP:20260419T221931
CREATED:20251028T135208Z
LAST-MODIFIED:20251118T140509Z
UID:10000038-1762936200-1762963200@www.bradfordeducationandtraining.nhs.uk
SUMMARY:IV Skills
DESCRIPTION:Understand the legal and professional responsibilities Address the benefits and disadvantages of IV Therapy; Be able to recognise and act upon Anaphylaxis; To identify Drug Calculations requirements; Practical session with a manikin\, becoming familiar with the equipment within the Trust and gaining confidence. Upon completion of this course\, you will gain the Intravenous Drug Administration Theory competency. \nThis course is mandatory and aimed at Nurses\, Midwives and Allied health practitioners who require the theory and skills to administer Intravenous Drug Therapies new to the Trust \nCan be booked by contacting Clinical.Skills@bthft.nhs.uk \nClinical Skills Brochure \nFor external bookings\, please contact Clinical.Skills@bthft.nhs.uk for more information.
URL:https://www.bradfordeducationandtraining.nhs.uk/event/iv-skills/2025-11-12/
LOCATION:Clinical Skills Practical Room\, Field House\, Field House\, 20 Smith Lane\, Bradford\, West Yorkshire\, BD9 5HP\, United Kingdom
CATEGORIES:Clinical Skills
ORGANIZER;CN="Clinical Skills":MAILTO:clinical.skills@bthft.nhs.uk
END:VEVENT
BEGIN:VEVENT
DTSTART;TZID=Europe/London:20251111T130000
DTEND;TZID=Europe/London:20251111T160000
DTSTAMP:20260419T221931
CREATED:20251028T134508Z
LAST-MODIFIED:20260209T131741Z
UID:10000036-1762866000-1762876800@www.bradfordeducationandtraining.nhs.uk
SUMMARY:Cannulation
DESCRIPTION:Clinical Skills Brochure \nHeld in Clinical Skills Practical Room – Field House \nCan be booked via ESR until class is full: \n389 CLIN Peripheral Cannulation \nFor external bookings\, please contact Clinical.Skills@bthft.nhs.uk for more information.
URL:https://www.bradfordeducationandtraining.nhs.uk/event/cannulation/2025-11-11/
LOCATION:Clinical Skills Practical Room\, Field House\, Field House\, 20 Smith Lane\, Bradford\, West Yorkshire\, BD9 5HP\, United Kingdom
CATEGORIES:Clinical Skills
ORGANIZER;CN="Clinical Skills":MAILTO:clinical.skills@bthft.nhs.uk
END:VEVENT
BEGIN:VEVENT
DTSTART;TZID=Europe/London:20251111T083000
DTEND;TZID=Europe/London:20251111T113000
DTSTAMP:20260419T221931
CREATED:20251028T134307Z
LAST-MODIFIED:20251107T125641Z
UID:10000034-1762849800-1762860600@www.bradfordeducationandtraining.nhs.uk
SUMMARY:SAMs Induction
DESCRIPTION:This course lasts two hours and is designed to update staff on the safe administration of medicines. It will cover local concerns\, policy and guidelines\, providing a refresher for existing practice\, and also a way of disseminating any practice updates. It will include elements of safer prescribing\, management of allergy and patient group directions. \nAimed at Nurses\, Nursing Associated\, Midwives\, Healthcare Assistants and Allied Health Practitioners who administer medication to patients new to the Trust.
URL:https://www.bradfordeducationandtraining.nhs.uk/event/sams-induction/
LOCATION:Teaching Room 2\, Field House\, Field House\, 20 Smith Lane\, Bradford\, West Yorkshire\, BD9 5HP\, United Kingdom
CATEGORIES:Clinical Skills
ORGANIZER;CN="Clinical Skills":MAILTO:clinical.skills@bthft.nhs.uk
END:VEVENT
BEGIN:VEVENT
DTSTART;TZID=Europe/London:20251111T073000
DTEND;TZID=Europe/London:20251111T160000
DTSTAMP:20260419T221931
CREATED:20251107T141600Z
LAST-MODIFIED:20251222T125604Z
UID:10000177-1762846200-1762876800@www.bradfordeducationandtraining.nhs.uk
SUMMARY:ILS (Immediate Life Support) Course
DESCRIPTION:Course brochure \nThis is a Resuscitation Council UK accredited Immediate Life Support (ILS) course. To enquire about course dates and details\, please email bookings.resuscitation@bthft.nhs.uk
URL:https://www.bradfordeducationandtraining.nhs.uk/event/ils-immediate-life-support-course-2/2025-11-11/
LOCATION:Eurich Room\, B Floor\, Field House\, Bradford Royal Infirmary
CATEGORIES:Resuscitation
END:VEVENT
BEGIN:VEVENT
DTSTART;TZID=Europe/London:20251110T090000
DTEND;TZID=Europe/London:20251110T120000
DTSTAMP:20260419T221931
CREATED:20251028T133854Z
LAST-MODIFIED:20251118T140610Z
UID:10000033-1762765200-1762776000@www.bradfordeducationandtraining.nhs.uk
SUMMARY:Chest Drains Care and Managment
DESCRIPTION:Clinical Skills Brochure \nClinical Skills Practical Room – Field House\, BRI \nAvailable to book via ESR: \n389 CLIN Chest Drains Care and Management \nFor external bookings\, please contact Clinical.Skills@bthft.nhs.uk for more information.
URL:https://www.bradfordeducationandtraining.nhs.uk/event/chest-drains-care-and-managment/
LOCATION:Clinical Skills Practical Room\, Field House\, Field House\, 20 Smith Lane\, Bradford\, West Yorkshire\, BD9 5HP\, United Kingdom
CATEGORIES:Clinical Skills
ORGANIZER;CN="Clinical Skills":MAILTO:clinical.skills@bthft.nhs.uk
END:VEVENT
BEGIN:VEVENT
DTSTART;VALUE=DATE:20251110
DTEND;VALUE=DATE:20251122
DTSTAMP:20260419T221931
CREATED:20251020T151618Z
LAST-MODIFIED:20251107T125547Z
UID:10000008-1762732800-1763769599@www.bradfordeducationandtraining.nhs.uk
SUMMARY:HCA Bootcamp - November
DESCRIPTION:  \n \nThe 10-day HCA Bootcamp is the trust’s induction programme for new and experienced support workers. It introduces participants to the Care Certificate and provides essential training in safe\, compassionate\, patient-centered care. Delivered by experienced educators\, the programme is open to all clinical non-registrant support roles—not just Healthcare Assistants. \nFor more information contact supportworkerteam@bthft.nhs.uk
URL:https://www.bradfordeducationandtraining.nhs.uk/event/hca-bootcamp-november/
LOCATION:Field House\, Bradford Royal Infirmary\, Bradford\, BD9 6RJ\, United Kingdom
CATEGORIES:Continuing Professional Development
END:VEVENT
BEGIN:VEVENT
DTSTART;TZID=Europe/London:20251107T080000
DTEND;TZID=Europe/London:20251107T120000
DTSTAMP:20260419T221931
CREATED:20251103T132511Z
LAST-MODIFIED:20251222T125916Z
UID:10000076-1762502400-1762516800@www.bradfordeducationandtraining.nhs.uk
SUMMARY:GP Hybrid Training
DESCRIPTION:Course brochure \nThe GP Hybrid training program covers Adult and Paediatric Basic Life Support (BLS) as well as Anaphylaxis Management\, delivered in line with Resuscitation Council UK (RCUK) guidelines. To enquire about course dates and details\, please email bookings.resuscitation@bthft.nhs.uk
URL:https://www.bradfordeducationandtraining.nhs.uk/event/gp-hybrid-training/2025-11-07/
LOCATION:Eurich Room\, B Floor\, Field House\, Bradford Royal Infirmary
CATEGORIES:Resuscitation
END:VEVENT
BEGIN:VEVENT
DTSTART;TZID=Europe/London:20251105T080000
DTEND;TZID=Europe/London:20251105T160000
DTSTAMP:20260419T221931
CREATED:20251103T113548Z
LAST-MODIFIED:20251222T125932Z
UID:10000058-1762329600-1762358400@www.bradfordeducationandtraining.nhs.uk
SUMMARY:Basic Life Support (Adult)
DESCRIPTION:Course brochure \nMandatory Adult Basic Life Support (BLS) training. Please book your session through ESR under the heading 389 MAND Basic Life Support. Individual session timings and availability can be viewed directly on ESR—please ensure you book your space in advance to secure a slot.
URL:https://www.bradfordeducationandtraining.nhs.uk/event/basic-life-support-adult/
LOCATION:Eurich Room\, B Floor\, Field House\, Bradford Royal Infirmary
CATEGORIES:Resuscitation
END:VEVENT
BEGIN:VEVENT
DTSTART;TZID=Europe/London:20251103T090000
DTEND;TZID=Europe/London:20251103T120000
DTSTAMP:20260419T221931
CREATED:20251027T125732Z
LAST-MODIFIED:20251118T140644Z
UID:10000032-1762160400-1762171200@www.bradfordeducationandtraining.nhs.uk
SUMMARY:Consent in Research
DESCRIPTION:Clinical Skills Brochure \nClinical Skills Practical Room – Field House \nto book – contact clinical.skills@bthft.nhs.uk \nFor external bookings\, please contact Clinical.Skills@bthft.nhs.uk for more information.
URL:https://www.bradfordeducationandtraining.nhs.uk/event/consent-in-research/
LOCATION:Clinical Skills Practical Room\, Field House\, Field House\, 20 Smith Lane\, Bradford\, West Yorkshire\, BD9 5HP\, United Kingdom
CATEGORIES:Clinical Skills
END:VEVENT
END:VCALENDAR