BEGIN:VCALENDAR
VERSION:2.0
PRODID:-//Bradford Education and Training - ECPv6.15.15//NONSGML v1.0//EN
CALSCALE:GREGORIAN
METHOD:PUBLISH
X-ORIGINAL-URL:https://www.bradfordeducationandtraining.nhs.uk
X-WR-CALDESC:Events for Bradford Education and Training
REFRESH-INTERVAL;VALUE=DURATION:PT1H
X-Robots-Tag:noindex
X-PUBLISHED-TTL:PT1H
BEGIN:VTIMEZONE
TZID:Europe/London
BEGIN:DAYLIGHT
TZOFFSETFROM:+0000
TZOFFSETTO:+0100
TZNAME:BST
DTSTART:20250330T010000
END:DAYLIGHT
BEGIN:STANDARD
TZOFFSETFROM:+0100
TZOFFSETTO:+0000
TZNAME:GMT
DTSTART:20251026T010000
END:STANDARD
BEGIN:DAYLIGHT
TZOFFSETFROM:+0000
TZOFFSETTO:+0100
TZNAME:BST
DTSTART:20260329T010000
END:DAYLIGHT
BEGIN:STANDARD
TZOFFSETFROM:+0100
TZOFFSETTO:+0000
TZNAME:GMT
DTSTART:20261025T010000
END:STANDARD
BEGIN:DAYLIGHT
TZOFFSETFROM:+0000
TZOFFSETTO:+0100
TZNAME:BST
DTSTART:20270328T010000
END:DAYLIGHT
BEGIN:STANDARD
TZOFFSETFROM:+0100
TZOFFSETTO:+0000
TZNAME:GMT
DTSTART:20271031T010000
END:STANDARD
END:VTIMEZONE
BEGIN:VEVENT
DTSTART;TZID=Europe/London:20260429T073000
DTEND;TZID=Europe/London:20260429T160000
DTSTAMP:20260419T204539
CREATED:20251107T142321Z
LAST-MODIFIED:20251222T125728Z
UID:10000123-1777447800-1777478400@www.bradfordeducationandtraining.nhs.uk
SUMMARY:ILSr (Immediate Life Support Recertification) Course
DESCRIPTION:Course brochure \nThis is a Resuscitation Council UK accredited Immediate Life Support Recertification (ILSr) course. To enquire about course dates and details\, please email bookings.resuscitation@bthft.nhs.uk
URL:https://www.bradfordeducationandtraining.nhs.uk/event/ilsr-immediate-life-support-recertification-course/2026-04-29/
LOCATION:Eurich Room\, B Floor\, Field House\, Bradford Royal Infirmary
CATEGORIES:Resuscitation
END:VEVENT
BEGIN:VEVENT
DTSTART;TZID=Europe/London:20260430T080000
DTEND;TZID=Europe/London:20260430T160000
DTSTAMP:20260419T204539
CREATED:20251107T151412Z
LAST-MODIFIED:20251222T125329Z
UID:10000184-1777536000-1777564800@www.bradfordeducationandtraining.nhs.uk
SUMMARY:Basic Life Support (Adult/Paediatric) - St Lukes Hospital
DESCRIPTION:Course brochure \nMandatory Adult/Paeds Basic Life Support (BLS) training. Please book your session through ESR under the heading 389 MAND Basic Life Support. Individual session timings and availability can be viewed directly on ESR—please ensure you book your space in advance to secure a slot.
URL:https://www.bradfordeducationandtraining.nhs.uk/event/basic-life-support-adult-paediatric-st-lukes-hospital/2026-04-30/
LOCATION:Renal Seminar Room – St Lukes Hospital\, St. Luke’s Hospital\, Little Horton Ln\, Bradford\, BD5 0NA
CATEGORIES:Resuscitation
END:VEVENT
BEGIN:VEVENT
DTSTART;TZID=Europe/London:20260430T090000
DTEND;TZID=Europe/London:20260430T150000
DTSTAMP:20260419T204539
CREATED:20260218T135802Z
LAST-MODIFIED:20260218T135802Z
UID:10000260-1777539600-1777561200@www.bradfordeducationandtraining.nhs.uk
SUMMARY:Oliver McGowan Tier 2 Training
DESCRIPTION:Tier 2 of the Oliver McGowan Mandatory Training on Learning Disability and Autism is for people who may need to provide care and support for autistic people or people with a learning disability.\n\n\nThe training is named after Oliver McGowan. Oliver was a young man whose death shone a light on the need for health and social care staff to have better skills\, knowledge and understanding of the needs for autistic people and people with a learning disability.\n\n\nTraining can be booked via ESR using the link below:\n\n389 MAN Oliver McGowan Tier 2 Training – 2026\n\nFor external bookings\, please contact olivermcgowan.training@bthft.nhs.uk for more information.
URL:https://www.bradfordeducationandtraining.nhs.uk/event/oliver-mcgowan-tier-2-training-26/
LOCATION:Field House\, Bradford Royal Infirmary\, Bradford\, BD9 6RJ\, United Kingdom
CATEGORIES:Oliver McGowan
END:VEVENT
BEGIN:VEVENT
DTSTART;TZID=Europe/London:20260505T080000
DTEND;TZID=Europe/London:20260505T180000
DTSTAMP:20260419T204539
CREATED:20251103T115420Z
LAST-MODIFIED:20251222T125707Z
UID:10000160-1777968000-1778004000@www.bradfordeducationandtraining.nhs.uk
SUMMARY:Basic Life Support (Adult)
DESCRIPTION:Course brochure \nMandatory Adult Basic Life Support (BLS) training. Please book your session through ESR under the heading 389 MAND Basic Life Support. Individual session timings and availability can be viewed directly on ESR—please ensure you book your space in advance to secure a slot.
URL:https://www.bradfordeducationandtraining.nhs.uk/event/basic-life-support-adult-4/2026-05-05/
LOCATION:Eurich Room\, B Floor\, Field House\, Bradford Royal Infirmary
CATEGORIES:Resuscitation
END:VEVENT
BEGIN:VEVENT
DTSTART;TZID=Europe/London:20260506T073000
DTEND;TZID=Europe/London:20260506T160000
DTSTAMP:20260419T204539
CREATED:20251107T141600Z
LAST-MODIFIED:20251222T125604Z
UID:10000105-1778052600-1778083200@www.bradfordeducationandtraining.nhs.uk
SUMMARY:ILS (Immediate Life Support) Course
DESCRIPTION:Course brochure \nThis is a Resuscitation Council UK accredited Immediate Life Support (ILS) course. To enquire about course dates and details\, please email bookings.resuscitation@bthft.nhs.uk
URL:https://www.bradfordeducationandtraining.nhs.uk/event/ils-immediate-life-support-course-2/2026-05-06/
LOCATION:Eurich Room\, B Floor\, Field House\, Bradford Royal Infirmary
CATEGORIES:Resuscitation
END:VEVENT
BEGIN:VEVENT
DTSTART;TZID=Europe/London:20260512T073000
DTEND;TZID=Europe/London:20260512T160000
DTSTAMP:20260419T204539
CREATED:20251107T142321Z
LAST-MODIFIED:20251222T125728Z
UID:10000124-1778571000-1778601600@www.bradfordeducationandtraining.nhs.uk
SUMMARY:ILSr (Immediate Life Support Recertification) Course
DESCRIPTION:Course brochure \nThis is a Resuscitation Council UK accredited Immediate Life Support Recertification (ILSr) course. To enquire about course dates and details\, please email bookings.resuscitation@bthft.nhs.uk
URL:https://www.bradfordeducationandtraining.nhs.uk/event/ilsr-immediate-life-support-recertification-course/2026-05-12/
LOCATION:Eurich Room\, B Floor\, Field House\, Bradford Royal Infirmary
CATEGORIES:Resuscitation
END:VEVENT
BEGIN:VEVENT
DTSTART;TZID=Europe/London:20260518T073000
DTEND;TZID=Europe/London:20260518T160000
DTSTAMP:20260419T204539
CREATED:20251107T143738Z
LAST-MODIFIED:20251222T125642Z
UID:10000146-1779089400-1779120000@www.bradfordeducationandtraining.nhs.uk
SUMMARY:PILS (Paediatric Immediate Life Support) Course
DESCRIPTION:Course brochure \nThis is a Resuscitation Council UK accredited Paediatric Immediate Life Support (PILS) course. To enquire about course dates and details\, please email bookings.resuscitation@bthft.nhs.uk
URL:https://www.bradfordeducationandtraining.nhs.uk/event/pils-paediatric-immediate-life-support-course-2/2026-05-18/
LOCATION:Eurich Room\, B Floor\, Field House\, Bradford Royal Infirmary
CATEGORIES:Resuscitation
END:VEVENT
BEGIN:VEVENT
DTSTART;TZID=Europe/London:20260519T080000
DTEND;TZID=Europe/London:20260519T160000
DTSTAMP:20260419T204539
CREATED:20251103T115420Z
LAST-MODIFIED:20251222T125707Z
UID:10000161-1779177600-1779206400@www.bradfordeducationandtraining.nhs.uk
SUMMARY:Basic Life Support (Adult)
DESCRIPTION:Course brochure \nMandatory Adult Basic Life Support (BLS) training. Please book your session through ESR under the heading 389 MAND Basic Life Support. Individual session timings and availability can be viewed directly on ESR—please ensure you book your space in advance to secure a slot.
URL:https://www.bradfordeducationandtraining.nhs.uk/event/basic-life-support-adult-4/2026-05-19/
LOCATION:Eurich Room\, B Floor\, Field House\, Bradford Royal Infirmary
CATEGORIES:Resuscitation
END:VEVENT
BEGIN:VEVENT
DTSTART;TZID=Europe/London:20260521T100000
DTEND;TZID=Europe/London:20260521T120000
DTSTAMP:20260419T204539
CREATED:20260304T142634Z
LAST-MODIFIED:20260304T142634Z
UID:10000263-1779357600-1779364800@www.bradfordeducationandtraining.nhs.uk
SUMMARY:Managing Patients Who Pose a Risk
DESCRIPTION:This 2 hour course provides attendees the skills to \n\nIdentify risks\nManaging risks in a clinical environment\nprovides hands on training to help you prepare for real life situations\nprovides skills and techniques to help care for patients who have altered cognition and perception.\n\nTo reserve your place on this session please email simulation.administration@bthft.nhs.uk
URL:https://www.bradfordeducationandtraining.nhs.uk/event/managing-patients-who-pose-a-risk/2026-05-21/
LOCATION:Simulation Centre\, Field House\, Bradford Royal Infirmary\, Bradford\, BD9 6RJ\, United Kingdom
CATEGORIES:Simulation Training
ORGANIZER;CN="Simulation Team":MAILTO:simulation.administration@bthft.nhs.uk
END:VEVENT
BEGIN:VEVENT
DTSTART;TZID=Europe/London:20260526T073000
DTEND;TZID=Europe/London:20260526T160000
DTSTAMP:20260419T204539
CREATED:20251107T141600Z
LAST-MODIFIED:20251222T125604Z
UID:10000106-1779780600-1779811200@www.bradfordeducationandtraining.nhs.uk
SUMMARY:ILS (Immediate Life Support) Course
DESCRIPTION:Course brochure \nThis is a Resuscitation Council UK accredited Immediate Life Support (ILS) course. To enquire about course dates and details\, please email bookings.resuscitation@bthft.nhs.uk
URL:https://www.bradfordeducationandtraining.nhs.uk/event/ils-immediate-life-support-course-2/2026-05-26/
LOCATION:Eurich Room\, B Floor\, Field House\, Bradford Royal Infirmary
CATEGORIES:Resuscitation
END:VEVENT
BEGIN:VEVENT
DTSTART;TZID=Europe/London:20260527T073000
DTEND;TZID=Europe/London:20260527T170000
DTSTAMP:20260419T204539
CREATED:20251107T143105Z
LAST-MODIFIED:20251222T125545Z
UID:10000134-1779867000-1779901200@www.bradfordeducationandtraining.nhs.uk
SUMMARY:PILS (Paediatric Immediate Life Support) Course - Internal Paediatric Staff
DESCRIPTION:Course brochure \nThis is a Resuscitation Council UK accredited Paediatric Immediate Life Support (PILS) course. To enquire about course dates and details\, please email bookings.resuscitation@bthft.nhs.uk
URL:https://www.bradfordeducationandtraining.nhs.uk/event/pils-paediatric-immediate-life-support-course-internal-paediatric-staff/2026-05-27/
LOCATION:Eurich Room\, B Floor\, Field House\, Bradford Royal Infirmary
CATEGORIES:Resuscitation
END:VEVENT
BEGIN:VEVENT
DTSTART;TZID=Europe/London:20260601T073000
DTEND;TZID=Europe/London:20260601T160000
DTSTAMP:20260419T204539
CREATED:20251107T143738Z
LAST-MODIFIED:20251222T125642Z
UID:10000147-1780299000-1780329600@www.bradfordeducationandtraining.nhs.uk
SUMMARY:PILS (Paediatric Immediate Life Support) Course
DESCRIPTION:Course brochure \nThis is a Resuscitation Council UK accredited Paediatric Immediate Life Support (PILS) course. To enquire about course dates and details\, please email bookings.resuscitation@bthft.nhs.uk
URL:https://www.bradfordeducationandtraining.nhs.uk/event/pils-paediatric-immediate-life-support-course-2/2026-06-01/
LOCATION:Eurich Room\, B Floor\, Field House\, Bradford Royal Infirmary
CATEGORIES:Resuscitation
END:VEVENT
BEGIN:VEVENT
DTSTART;TZID=Europe/London:20260601T083000
DTEND;TZID=Europe/London:20260601T163000
DTSTAMP:20260419T204539
CREATED:20260304T150814Z
LAST-MODIFIED:20260304T150814Z
UID:10000281-1780302600-1780331400@www.bradfordeducationandtraining.nhs.uk
SUMMARY:Critical Care Transfer Course
DESCRIPTION:This one day hands on practical simulation course focuses on the safe transfer of critically ill patients. \nUsing an ambulance and paramedic crew\, this course aims to highlight real experiences and highlights the risk element when transferring patients via ambulance. \nThis course is open to CT1&2 anaesthetic trainees and ACCS Trainees.
URL:https://www.bradfordeducationandtraining.nhs.uk/event/critical-care-transfer-course-2/2026-06-01/
LOCATION:Simulation Centre\, Field House\, Bradford Royal Infirmary\, Bradford\, BD9 6RJ\, United Kingdom
CATEGORIES:Simulation Training
ORGANIZER;CN="Simulation Team":MAILTO:simulation.administration@bthft.nhs.uk
END:VEVENT
BEGIN:VEVENT
DTSTART;TZID=Europe/London:20260603T073000
DTEND;TZID=Europe/London:20260603T160000
DTSTAMP:20260419T204539
CREATED:20251107T141600Z
LAST-MODIFIED:20251222T125604Z
UID:10000107-1780471800-1780502400@www.bradfordeducationandtraining.nhs.uk
SUMMARY:ILS (Immediate Life Support) Course
DESCRIPTION:Course brochure \nThis is a Resuscitation Council UK accredited Immediate Life Support (ILS) course. To enquire about course dates and details\, please email bookings.resuscitation@bthft.nhs.uk
URL:https://www.bradfordeducationandtraining.nhs.uk/event/ils-immediate-life-support-course-2/2026-06-03/
LOCATION:Eurich Room\, B Floor\, Field House\, Bradford Royal Infirmary
CATEGORIES:Resuscitation
END:VEVENT
BEGIN:VEVENT
DTSTART;TZID=Europe/London:20260604T080000
DTEND;TZID=Europe/London:20260604T160000
DTSTAMP:20260419T204539
CREATED:20251103T115420Z
LAST-MODIFIED:20251222T125707Z
UID:10000162-1780560000-1780588800@www.bradfordeducationandtraining.nhs.uk
SUMMARY:Basic Life Support (Adult)
DESCRIPTION:Course brochure \nMandatory Adult Basic Life Support (BLS) training. Please book your session through ESR under the heading 389 MAND Basic Life Support. Individual session timings and availability can be viewed directly on ESR—please ensure you book your space in advance to secure a slot.
URL:https://www.bradfordeducationandtraining.nhs.uk/event/basic-life-support-adult-4/2026-06-04/
LOCATION:Eurich Room\, B Floor\, Field House\, Bradford Royal Infirmary
CATEGORIES:Resuscitation
END:VEVENT
BEGIN:VEVENT
DTSTART;TZID=Europe/London:20260608T090000
DTEND;TZID=Europe/London:20260608T163000
DTSTAMP:20260419T204539
CREATED:20260304T151250Z
LAST-MODIFIED:20260304T151250Z
UID:10000286-1780909200-1780936200@www.bradfordeducationandtraining.nhs.uk
SUMMARY:Faculty Development Day
DESCRIPTION:This one day course provides learners with theoretical knowledge as well as hands on experience in planning and delivering a simulation session.  The course aims to deliver: \n\nPrinciples of simulation based education\nDebriefing / feedback skills\nHow to plan and develop scenarios\nHow to use simulation effectively as an educational method\nHands on introduction to using high fidelity manikins\n\nTo reserve your place on the course please email simulation.administration@bthft.nhs.uk
URL:https://www.bradfordeducationandtraining.nhs.uk/event/faculty-development-day-2/2026-06-08/
LOCATION:Simulation Centre\, Field House\, Bradford Royal Infirmary\, Bradford\, BD9 6RJ\, United Kingdom
CATEGORIES:Simulation Training
ORGANIZER;CN="Simulation Team":MAILTO:simulation.administration@bthft.nhs.uk
END:VEVENT
BEGIN:VEVENT
DTSTART;TZID=Europe/London:20260609T073000
DTEND;TZID=Europe/London:20260609T160000
DTSTAMP:20260419T204539
CREATED:20251107T142321Z
LAST-MODIFIED:20251222T125728Z
UID:10000125-1780990200-1781020800@www.bradfordeducationandtraining.nhs.uk
SUMMARY:ILSr (Immediate Life Support Recertification) Course
DESCRIPTION:Course brochure \nThis is a Resuscitation Council UK accredited Immediate Life Support Recertification (ILSr) course. To enquire about course dates and details\, please email bookings.resuscitation@bthft.nhs.uk
URL:https://www.bradfordeducationandtraining.nhs.uk/event/ilsr-immediate-life-support-recertification-course/2026-06-09/
LOCATION:Eurich Room\, B Floor\, Field House\, Bradford Royal Infirmary
CATEGORIES:Resuscitation
END:VEVENT
BEGIN:VEVENT
DTSTART;TZID=Europe/London:20260611T080000
DTEND;TZID=Europe/London:20260611T170000
DTSTAMP:20260419T204539
CREATED:20260304T151729Z
LAST-MODIFIED:20260304T151729Z
UID:10000288-1781164800-1781197200@www.bradfordeducationandtraining.nhs.uk
SUMMARY:Paediatric Palliative Care Course
DESCRIPTION:This one day course run in collaboration with Martin House focuses on perinatal palliative care.  The course provides realistic simulations with expert faculty providing support and feedback. \nTo reserve your place on this course please access the booking link below. \nMartin House Children’s Hospice Education Centre Events – 18 Upcoming Activities and Tickets | Eventbrite \nAlternatively please email simulation.administration@bthft.nhs.uk
URL:https://www.bradfordeducationandtraining.nhs.uk/event/paediatric-palliative-care-course/
LOCATION:Simulation Centre\, Field House\, Bradford Royal Infirmary\, Bradford\, BD9 6RJ\, United Kingdom
CATEGORIES:Simulation Training
ORGANIZER;CN="Simulation Team":MAILTO:simulation.administration@bthft.nhs.uk
END:VEVENT
BEGIN:VEVENT
DTSTART;TZID=Europe/London:20260615T073000
DTEND;TZID=Europe/London:20260615T170000
DTSTAMP:20260419T204539
CREATED:20251107T143105Z
LAST-MODIFIED:20251222T125545Z
UID:10000135-1781508600-1781542800@www.bradfordeducationandtraining.nhs.uk
SUMMARY:PILS (Paediatric Immediate Life Support) Course - Internal Paediatric Staff
DESCRIPTION:Course brochure \nThis is a Resuscitation Council UK accredited Paediatric Immediate Life Support (PILS) course. To enquire about course dates and details\, please email bookings.resuscitation@bthft.nhs.uk
URL:https://www.bradfordeducationandtraining.nhs.uk/event/pils-paediatric-immediate-life-support-course-internal-paediatric-staff/2026-06-15/
LOCATION:Eurich Room\, B Floor\, Field House\, Bradford Royal Infirmary
CATEGORIES:Resuscitation
END:VEVENT
BEGIN:VEVENT
DTSTART;TZID=Europe/London:20260618T080000
DTEND;TZID=Europe/London:20260618T160000
DTSTAMP:20260419T204539
CREATED:20260304T143351Z
LAST-MODIFIED:20260304T143351Z
UID:10000275-1781769600-1781798400@www.bradfordeducationandtraining.nhs.uk
SUMMARY:Neck Breathers Study Day
DESCRIPTION:This one day course is aimed at all multi-professionals who are involved with the care of neck breathing patients.  The course will consist of theoretical sessions as well as hands on practical elements to deliver the appropriate skills and knowledge to care for this set of patients. \nTo reserve your place on this course email simulation.adminstration@bthft.nhs.uk.
URL:https://www.bradfordeducationandtraining.nhs.uk/event/neck-breathers-study-day-2/2026-06-18/
LOCATION:Simulation Centre\, Field House\, Bradford Royal Infirmary\, Bradford\, BD9 6RJ\, United Kingdom
CATEGORIES:Simulation Training
ORGANIZER;CN="Simulation Team":MAILTO:simulation.administration@bthft.nhs.uk
END:VEVENT
BEGIN:VEVENT
DTSTART;TZID=Europe/London:20260618T080000
DTEND;TZID=Europe/London:20260618T170000
DTSTAMP:20260419T204539
CREATED:20251023T105857Z
LAST-MODIFIED:20251107T130030Z
UID:10000028-1781769600-1781802000@www.bradfordeducationandtraining.nhs.uk
SUMMARY:Neck Breathers Study Day
DESCRIPTION:Join us for an interactive Neck Breathers Training Day designed for ALL healthcare professionals involved in caring for patients with neck breathers. This hands-on course combines theory and practical simulation to build confidence and enhance patient safety. \n📅 Date: 4th December 2025🕣 Time: 08:15 – 16:00📍 Venue: Simulation Centre\, Field House \n     Bookings:  To secure your place on the course please email simulation.administration@bthft.nhs.uk
URL:https://www.bradfordeducationandtraining.nhs.uk/event/neck-breathers-study-day/2026-06-18/
LOCATION:Simulation Centre\, Field House\, Bradford Royal Infirmary\, Bradford\, BD9 6RJ\, United Kingdom
CATEGORIES:Simulation Training
END:VEVENT
BEGIN:VEVENT
DTSTART;TZID=Europe/London:20260618T080000
DTEND;TZID=Europe/London:20260618T173000
DTSTAMP:20260419T204539
CREATED:20251107T135347Z
LAST-MODIFIED:20251222T125626Z
UID:10000084-1781769600-1781803800@www.bradfordeducationandtraining.nhs.uk
SUMMARY:eALS (Advanced Life Support) Course
DESCRIPTION:Course brochure \nThis is a Resuscitation Council UK accredited Advanced Life Support (eALS) course. To enquire about course dates and details\, please email bookings.resuscitation@bthft.nhs.uk
URL:https://www.bradfordeducationandtraining.nhs.uk/event/eals-advanced-life-support-course-2/2026-06-18/
LOCATION:Eurich Room\, B Floor\, Field House\, Bradford Royal Infirmary
CATEGORIES:Resuscitation
END:VEVENT
BEGIN:VEVENT
DTSTART;TZID=Europe/London:20260619T080000
DTEND;TZID=Europe/London:20260619T173000
DTSTAMP:20260419T204539
CREATED:20251107T135347Z
LAST-MODIFIED:20251222T125626Z
UID:10000085-1781856000-1781890200@www.bradfordeducationandtraining.nhs.uk
SUMMARY:eALS (Advanced Life Support) Course
DESCRIPTION:Course brochure \nThis is a Resuscitation Council UK accredited Advanced Life Support (eALS) course. To enquire about course dates and details\, please email bookings.resuscitation@bthft.nhs.uk
URL:https://www.bradfordeducationandtraining.nhs.uk/event/eals-advanced-life-support-course-2/2026-06-19/
LOCATION:Eurich Room\, B Floor\, Field House\, Bradford Royal Infirmary
CATEGORIES:Resuscitation
END:VEVENT
BEGIN:VEVENT
DTSTART;TZID=Europe/London:20260622T100000
DTEND;TZID=Europe/London:20260622T120000
DTSTAMP:20260419T204539
CREATED:20260304T142634Z
LAST-MODIFIED:20260304T142634Z
UID:10000264-1782122400-1782129600@www.bradfordeducationandtraining.nhs.uk
SUMMARY:Managing Patients Who Pose a Risk
DESCRIPTION:This 2 hour course provides attendees the skills to \n\nIdentify risks\nManaging risks in a clinical environment\nprovides hands on training to help you prepare for real life situations\nprovides skills and techniques to help care for patients who have altered cognition and perception.\n\nTo reserve your place on this session please email simulation.administration@bthft.nhs.uk
URL:https://www.bradfordeducationandtraining.nhs.uk/event/managing-patients-who-pose-a-risk/2026-06-22/
LOCATION:Simulation Centre\, Field House\, Bradford Royal Infirmary\, Bradford\, BD9 6RJ\, United Kingdom
CATEGORIES:Simulation Training
ORGANIZER;CN="Simulation Team":MAILTO:simulation.administration@bthft.nhs.uk
END:VEVENT
BEGIN:VEVENT
DTSTART;TZID=Europe/London:20260623T073000
DTEND;TZID=Europe/London:20260623T160000
DTSTAMP:20260419T204539
CREATED:20251107T141600Z
LAST-MODIFIED:20251222T125604Z
UID:10000108-1782199800-1782230400@www.bradfordeducationandtraining.nhs.uk
SUMMARY:ILS (Immediate Life Support) Course
DESCRIPTION:Course brochure \nThis is a Resuscitation Council UK accredited Immediate Life Support (ILS) course. To enquire about course dates and details\, please email bookings.resuscitation@bthft.nhs.uk
URL:https://www.bradfordeducationandtraining.nhs.uk/event/ils-immediate-life-support-course-2/2026-06-23/
LOCATION:Eurich Room\, B Floor\, Field House\, Bradford Royal Infirmary
CATEGORIES:Resuscitation
END:VEVENT
BEGIN:VEVENT
DTSTART;TZID=Europe/London:20260629T080000
DTEND;TZID=Europe/London:20260629T160000
DTSTAMP:20260419T204539
CREATED:20251107T151238Z
LAST-MODIFIED:20260210T095701Z
UID:10000183-1782720000-1782748800@www.bradfordeducationandtraining.nhs.uk
SUMMARY:Basic Life Support (Adult) - St Lukes Hospital
DESCRIPTION:Mandatory Adult Basic Life Support (BLS) training. Please book your session through ESR under the heading 389 MAND Basic Life Support. Individual session timings and availability can be viewed directly on ESR—please ensure you book your space in advance to secure a slot.
URL:https://www.bradfordeducationandtraining.nhs.uk/event/basic-life-support-adult-st-lukes-hospital/2026-06-29/
LOCATION:Renal Seminar Room – St Lukes Hospital\, St. Luke’s Hospital\, Little Horton Ln\, Bradford\, BD5 0NA
CATEGORIES:Resuscitation
END:VEVENT
BEGIN:VEVENT
DTSTART;TZID=Europe/London:20260702T073000
DTEND;TZID=Europe/London:20260702T160000
DTSTAMP:20260419T204539
CREATED:20251107T141600Z
LAST-MODIFIED:20251222T125604Z
UID:10000109-1782977400-1783008000@www.bradfordeducationandtraining.nhs.uk
SUMMARY:ILS (Immediate Life Support) Course
DESCRIPTION:Course brochure \nThis is a Resuscitation Council UK accredited Immediate Life Support (ILS) course. To enquire about course dates and details\, please email bookings.resuscitation@bthft.nhs.uk
URL:https://www.bradfordeducationandtraining.nhs.uk/event/ils-immediate-life-support-course-2/2026-07-02/
LOCATION:Eurich Room\, B Floor\, Field House\, Bradford Royal Infirmary
CATEGORIES:Resuscitation
END:VEVENT
BEGIN:VEVENT
DTSTART;TZID=Europe/London:20260709T080000
DTEND;TZID=Europe/London:20260709T180000
DTSTAMP:20260419T204539
CREATED:20251107T140422Z
LAST-MODIFIED:20251222T125515Z
UID:10000094-1783584000-1783620000@www.bradfordeducationandtraining.nhs.uk
SUMMARY:NLS (Newborn Life Support) Course
DESCRIPTION:Course brochure \nThis is a Resuscitation Council UK accredited Newborn Life Support (NLS) course. To enquire about course dates and details\, please email bookings.resuscitation@bthft.nhs.uk
URL:https://www.bradfordeducationandtraining.nhs.uk/event/nls-newborn-life-support-course-2/2026-07-09/
LOCATION:Eurich Room\, B Floor\, Field House\, Bradford Royal Infirmary
CATEGORIES:Resuscitation
END:VEVENT
BEGIN:VEVENT
DTSTART;TZID=Europe/London:20260713T073000
DTEND;TZID=Europe/London:20260713T170000
DTSTAMP:20260419T204539
CREATED:20251107T143105Z
LAST-MODIFIED:20251222T125545Z
UID:10000136-1783927800-1783962000@www.bradfordeducationandtraining.nhs.uk
SUMMARY:PILS (Paediatric Immediate Life Support) Course - Internal Paediatric Staff
DESCRIPTION:Course brochure \nThis is a Resuscitation Council UK accredited Paediatric Immediate Life Support (PILS) course. To enquire about course dates and details\, please email bookings.resuscitation@bthft.nhs.uk
URL:https://www.bradfordeducationandtraining.nhs.uk/event/pils-paediatric-immediate-life-support-course-internal-paediatric-staff/2026-07-13/
LOCATION:Eurich Room\, B Floor\, Field House\, Bradford Royal Infirmary
CATEGORIES:Resuscitation
END:VEVENT
BEGIN:VEVENT
DTSTART;TZID=Europe/London:20260713T083000
DTEND;TZID=Europe/London:20260713T170000
DTSTAMP:20260419T204539
CREATED:20260304T145450Z
LAST-MODIFIED:20260304T151319Z
UID:10000279-1783931400-1783962000@www.bradfordeducationandtraining.nhs.uk
SUMMARY:Obstetric Anaesthesia Emergencies Simulation Training
DESCRIPTION:This one day hands on practical simulation course introduces learners to the critical skills required to handle emergencies in the delivery suite.  This course is specifically designed for anaesthetic trainees who are ready to take the next step to excel in high pressurised situations. \nThe course will cover \n\nMajor Haemorrhage – learn how to quickly and effectively manage real life threatening blood loss.\nComplications of regional anaesthesia – learn how to handle complications as they arise.\nAirway complications – gain the skills to tackle airway emergencies with confidence.\nMaternal collapse – be prepared to act swiftly and save lives when seconds count.\n\nThis course is aimed at ACCS Trainees\, Stage 1 & 2 anaesthesia trainees. \nTo reserve you place on the course\, please email simulation.administration@bthft.nhs.uk
URL:https://www.bradfordeducationandtraining.nhs.uk/event/obstetric-anaesthesia-emergencies-simulation-training/2026-07-13/
LOCATION:Simulation Centre\, Field House\, Bradford Royal Infirmary\, Bradford\, BD9 6RJ\, United Kingdom
CATEGORIES:Simulation Training
ORGANIZER;CN="Simulation Team":MAILTO:simulation.administration@bthft.nhs.uk
END:VEVENT
END:VCALENDAR