BEGIN:VCALENDAR
VERSION:2.0
PRODID:-//Bradford Education and Training - ECPv6.15.15//NONSGML v1.0//EN
CALSCALE:GREGORIAN
METHOD:PUBLISH
X-ORIGINAL-URL:https://www.bradfordeducationandtraining.nhs.uk
X-WR-CALDESC:Events for Bradford Education and Training
REFRESH-INTERVAL;VALUE=DURATION:PT1H
X-Robots-Tag:noindex
X-PUBLISHED-TTL:PT1H
BEGIN:VTIMEZONE
TZID:Europe/London
BEGIN:DAYLIGHT
TZOFFSETFROM:+0000
TZOFFSETTO:+0100
TZNAME:BST
DTSTART:20250330T010000
END:DAYLIGHT
BEGIN:STANDARD
TZOFFSETFROM:+0100
TZOFFSETTO:+0000
TZNAME:GMT
DTSTART:20251026T010000
END:STANDARD
BEGIN:DAYLIGHT
TZOFFSETFROM:+0000
TZOFFSETTO:+0100
TZNAME:BST
DTSTART:20260329T010000
END:DAYLIGHT
BEGIN:STANDARD
TZOFFSETFROM:+0100
TZOFFSETTO:+0000
TZNAME:GMT
DTSTART:20261025T010000
END:STANDARD
BEGIN:DAYLIGHT
TZOFFSETFROM:+0000
TZOFFSETTO:+0100
TZNAME:BST
DTSTART:20270328T010000
END:DAYLIGHT
BEGIN:STANDARD
TZOFFSETFROM:+0100
TZOFFSETTO:+0000
TZNAME:GMT
DTSTART:20271031T010000
END:STANDARD
END:VTIMEZONE
BEGIN:VEVENT
DTSTART;TZID=Europe/London:20260730T080000
DTEND;TZID=Europe/London:20260730T160000
DTSTAMP:20260420T013624
CREATED:20251103T115420Z
LAST-MODIFIED:20251222T125707Z
UID:10000164-1785398400-1785427200@www.bradfordeducationandtraining.nhs.uk
SUMMARY:Basic Life Support (Adult)
DESCRIPTION:Course brochure \nMandatory Adult Basic Life Support (BLS) training. Please book your session through ESR under the heading 389 MAND Basic Life Support. Individual session timings and availability can be viewed directly on ESR—please ensure you book your space in advance to secure a slot.
URL:https://www.bradfordeducationandtraining.nhs.uk/event/basic-life-support-adult-4/2026-07-30/
LOCATION:Eurich Room\, B Floor\, Field House\, Bradford Royal Infirmary
CATEGORIES:Resuscitation
END:VEVENT
BEGIN:VEVENT
DTSTART;TZID=Europe/London:20260804T080000
DTEND;TZID=Europe/London:20260804T160000
DTSTAMP:20260420T013624
CREATED:20251103T115420Z
LAST-MODIFIED:20251222T125707Z
UID:10000165-1785830400-1785859200@www.bradfordeducationandtraining.nhs.uk
SUMMARY:Basic Life Support (Adult)
DESCRIPTION:Course brochure \nMandatory Adult Basic Life Support (BLS) training. Please book your session through ESR under the heading 389 MAND Basic Life Support. Individual session timings and availability can be viewed directly on ESR—please ensure you book your space in advance to secure a slot.
URL:https://www.bradfordeducationandtraining.nhs.uk/event/basic-life-support-adult-4/2026-08-04/
LOCATION:Eurich Room\, B Floor\, Field House\, Bradford Royal Infirmary
CATEGORIES:Resuscitation
END:VEVENT
BEGIN:VEVENT
DTSTART;TZID=Europe/London:20260810T073000
DTEND;TZID=Europe/London:20260810T160000
DTSTAMP:20260420T013624
CREATED:20251107T143738Z
LAST-MODIFIED:20251222T125642Z
UID:10000150-1786347000-1786377600@www.bradfordeducationandtraining.nhs.uk
SUMMARY:PILS (Paediatric Immediate Life Support) Course
DESCRIPTION:Course brochure \nThis is a Resuscitation Council UK accredited Paediatric Immediate Life Support (PILS) course. To enquire about course dates and details\, please email bookings.resuscitation@bthft.nhs.uk
URL:https://www.bradfordeducationandtraining.nhs.uk/event/pils-paediatric-immediate-life-support-course-2/2026-08-10/
LOCATION:Eurich Room\, B Floor\, Field House\, Bradford Royal Infirmary
CATEGORIES:Resuscitation
END:VEVENT
BEGIN:VEVENT
DTSTART;TZID=Europe/London:20260813T073000
DTEND;TZID=Europe/London:20260813T160000
DTSTAMP:20260420T013624
CREATED:20251107T141600Z
LAST-MODIFIED:20251222T125604Z
UID:10000111-1786606200-1786636800@www.bradfordeducationandtraining.nhs.uk
SUMMARY:ILS (Immediate Life Support) Course
DESCRIPTION:Course brochure \nThis is a Resuscitation Council UK accredited Immediate Life Support (ILS) course. To enquire about course dates and details\, please email bookings.resuscitation@bthft.nhs.uk
URL:https://www.bradfordeducationandtraining.nhs.uk/event/ils-immediate-life-support-course-2/2026-08-13/
LOCATION:Eurich Room\, B Floor\, Field House\, Bradford Royal Infirmary
CATEGORIES:Resuscitation
END:VEVENT
BEGIN:VEVENT
DTSTART;TZID=Europe/London:20260818T073000
DTEND;TZID=Europe/London:20260818T160000
DTSTAMP:20260420T013624
CREATED:20251107T142321Z
LAST-MODIFIED:20251222T125728Z
UID:10000127-1787038200-1787068800@www.bradfordeducationandtraining.nhs.uk
SUMMARY:ILSr (Immediate Life Support Recertification) Course
DESCRIPTION:Course brochure \nThis is a Resuscitation Council UK accredited Immediate Life Support Recertification (ILSr) course. To enquire about course dates and details\, please email bookings.resuscitation@bthft.nhs.uk
URL:https://www.bradfordeducationandtraining.nhs.uk/event/ilsr-immediate-life-support-recertification-course/2026-08-18/
LOCATION:Eurich Room\, B Floor\, Field House\, Bradford Royal Infirmary
CATEGORIES:Resuscitation
END:VEVENT
BEGIN:VEVENT
DTSTART;TZID=Europe/London:20260819T073000
DTEND;TZID=Europe/London:20260819T160000
DTSTAMP:20260420T013624
CREATED:20251107T143738Z
LAST-MODIFIED:20251222T125642Z
UID:10000151-1787124600-1787155200@www.bradfordeducationandtraining.nhs.uk
SUMMARY:PILS (Paediatric Immediate Life Support) Course
DESCRIPTION:Course brochure \nThis is a Resuscitation Council UK accredited Paediatric Immediate Life Support (PILS) course. To enquire about course dates and details\, please email bookings.resuscitation@bthft.nhs.uk
URL:https://www.bradfordeducationandtraining.nhs.uk/event/pils-paediatric-immediate-life-support-course-2/2026-08-19/
LOCATION:Eurich Room\, B Floor\, Field House\, Bradford Royal Infirmary
CATEGORIES:Resuscitation
END:VEVENT
BEGIN:VEVENT
DTSTART;TZID=Europe/London:20260820T080000
DTEND;TZID=Europe/London:20260820T160000
DTSTAMP:20260420T013624
CREATED:20251103T115420Z
LAST-MODIFIED:20251222T125707Z
UID:10000166-1787212800-1787241600@www.bradfordeducationandtraining.nhs.uk
SUMMARY:Basic Life Support (Adult)
DESCRIPTION:Course brochure \nMandatory Adult Basic Life Support (BLS) training. Please book your session through ESR under the heading 389 MAND Basic Life Support. Individual session timings and availability can be viewed directly on ESR—please ensure you book your space in advance to secure a slot.
URL:https://www.bradfordeducationandtraining.nhs.uk/event/basic-life-support-adult-4/2026-08-20/
LOCATION:Eurich Room\, B Floor\, Field House\, Bradford Royal Infirmary
CATEGORIES:Resuscitation
END:VEVENT
BEGIN:VEVENT
DTSTART;TZID=Europe/London:20260824T073000
DTEND;TZID=Europe/London:20260824T160000
DTSTAMP:20260420T013624
CREATED:20251107T141600Z
LAST-MODIFIED:20251222T125604Z
UID:10000112-1787556600-1787587200@www.bradfordeducationandtraining.nhs.uk
SUMMARY:ILS (Immediate Life Support) Course
DESCRIPTION:Course brochure \nThis is a Resuscitation Council UK accredited Immediate Life Support (ILS) course. To enquire about course dates and details\, please email bookings.resuscitation@bthft.nhs.uk
URL:https://www.bradfordeducationandtraining.nhs.uk/event/ils-immediate-life-support-course-2/2026-08-24/
LOCATION:Eurich Room\, B Floor\, Field House\, Bradford Royal Infirmary
CATEGORIES:Resuscitation
END:VEVENT
BEGIN:VEVENT
DTSTART;TZID=Europe/London:20260826T100000
DTEND;TZID=Europe/London:20260826T120000
DTSTAMP:20260420T013624
CREATED:20260304T142634Z
LAST-MODIFIED:20260304T142634Z
UID:10000266-1787738400-1787745600@www.bradfordeducationandtraining.nhs.uk
SUMMARY:Managing Patients Who Pose a Risk
DESCRIPTION:This 2 hour course provides attendees the skills to \n\nIdentify risks\nManaging risks in a clinical environment\nprovides hands on training to help you prepare for real life situations\nprovides skills and techniques to help care for patients who have altered cognition and perception.\n\nTo reserve your place on this session please email simulation.administration@bthft.nhs.uk
URL:https://www.bradfordeducationandtraining.nhs.uk/event/managing-patients-who-pose-a-risk/2026-08-26/
LOCATION:Simulation Centre\, Field House\, Bradford Royal Infirmary\, Bradford\, BD9 6RJ\, United Kingdom
CATEGORIES:Simulation Training
ORGANIZER;CN="Simulation Team":MAILTO:simulation.administration@bthft.nhs.uk
END:VEVENT
BEGIN:VEVENT
DTSTART;TZID=Europe/London:20260827T073000
DTEND;TZID=Europe/London:20260827T170000
DTSTAMP:20260420T013624
CREATED:20251107T143105Z
LAST-MODIFIED:20251222T125545Z
UID:10000137-1787815800-1787850000@www.bradfordeducationandtraining.nhs.uk
SUMMARY:PILS (Paediatric Immediate Life Support) Course - Internal Paediatric Staff
DESCRIPTION:Course brochure \nThis is a Resuscitation Council UK accredited Paediatric Immediate Life Support (PILS) course. To enquire about course dates and details\, please email bookings.resuscitation@bthft.nhs.uk
URL:https://www.bradfordeducationandtraining.nhs.uk/event/pils-paediatric-immediate-life-support-course-internal-paediatric-staff/2026-08-27/
LOCATION:Eurich Room\, B Floor\, Field House\, Bradford Royal Infirmary
CATEGORIES:Resuscitation
END:VEVENT
BEGIN:VEVENT
DTSTART;TZID=Europe/London:20260901T080000
DTEND;TZID=Europe/London:20260901T160000
DTSTAMP:20260420T013624
CREATED:20251103T115420Z
LAST-MODIFIED:20251222T125707Z
UID:10000167-1788249600-1788278400@www.bradfordeducationandtraining.nhs.uk
SUMMARY:Basic Life Support (Adult)
DESCRIPTION:Course brochure \nMandatory Adult Basic Life Support (BLS) training. Please book your session through ESR under the heading 389 MAND Basic Life Support. Individual session timings and availability can be viewed directly on ESR—please ensure you book your space in advance to secure a slot.
URL:https://www.bradfordeducationandtraining.nhs.uk/event/basic-life-support-adult-4/2026-09-01/
LOCATION:Eurich Room\, B Floor\, Field House\, Bradford Royal Infirmary
CATEGORIES:Resuscitation
END:VEVENT
BEGIN:VEVENT
DTSTART;TZID=Europe/London:20260902T073000
DTEND;TZID=Europe/London:20260902T160000
DTSTAMP:20260420T013624
CREATED:20251107T142321Z
LAST-MODIFIED:20251222T125728Z
UID:10000128-1788334200-1788364800@www.bradfordeducationandtraining.nhs.uk
SUMMARY:ILSr (Immediate Life Support Recertification) Course
DESCRIPTION:Course brochure \nThis is a Resuscitation Council UK accredited Immediate Life Support Recertification (ILSr) course. To enquire about course dates and details\, please email bookings.resuscitation@bthft.nhs.uk
URL:https://www.bradfordeducationandtraining.nhs.uk/event/ilsr-immediate-life-support-recertification-course/2026-09-02/
LOCATION:Eurich Room\, B Floor\, Field House\, Bradford Royal Infirmary
CATEGORIES:Resuscitation
END:VEVENT
BEGIN:VEVENT
DTSTART;TZID=Europe/London:20260909T073000
DTEND;TZID=Europe/London:20260909T170000
DTSTAMP:20260420T013624
CREATED:20251107T143105Z
LAST-MODIFIED:20251222T125545Z
UID:10000138-1788939000-1788973200@www.bradfordeducationandtraining.nhs.uk
SUMMARY:PILS (Paediatric Immediate Life Support) Course - Internal Paediatric Staff
DESCRIPTION:Course brochure \nThis is a Resuscitation Council UK accredited Paediatric Immediate Life Support (PILS) course. To enquire about course dates and details\, please email bookings.resuscitation@bthft.nhs.uk
URL:https://www.bradfordeducationandtraining.nhs.uk/event/pils-paediatric-immediate-life-support-course-internal-paediatric-staff/2026-09-09/
LOCATION:Eurich Room\, B Floor\, Field House\, Bradford Royal Infirmary
CATEGORIES:Resuscitation
END:VEVENT
BEGIN:VEVENT
DTSTART;TZID=Europe/London:20260910T073000
DTEND;TZID=Europe/London:20260910T160000
DTSTAMP:20260420T013624
CREATED:20251107T141600Z
LAST-MODIFIED:20251222T125604Z
UID:10000113-1789025400-1789056000@www.bradfordeducationandtraining.nhs.uk
SUMMARY:ILS (Immediate Life Support) Course
DESCRIPTION:Course brochure \nThis is a Resuscitation Council UK accredited Immediate Life Support (ILS) course. To enquire about course dates and details\, please email bookings.resuscitation@bthft.nhs.uk
URL:https://www.bradfordeducationandtraining.nhs.uk/event/ils-immediate-life-support-course-2/2026-09-10/
LOCATION:Eurich Room\, B Floor\, Field House\, Bradford Royal Infirmary
CATEGORIES:Resuscitation
END:VEVENT
BEGIN:VEVENT
DTSTART;TZID=Europe/London:20260917T080000
DTEND;TZID=Europe/London:20260917T160000
DTSTAMP:20260420T013624
CREATED:20260304T143351Z
LAST-MODIFIED:20260304T143351Z
UID:10000276-1789632000-1789660800@www.bradfordeducationandtraining.nhs.uk
SUMMARY:Neck Breathers Study Day
DESCRIPTION:This one day course is aimed at all multi-professionals who are involved with the care of neck breathing patients.  The course will consist of theoretical sessions as well as hands on practical elements to deliver the appropriate skills and knowledge to care for this set of patients. \nTo reserve your place on this course email simulation.adminstration@bthft.nhs.uk.
URL:https://www.bradfordeducationandtraining.nhs.uk/event/neck-breathers-study-day-2/2026-09-17/
LOCATION:Simulation Centre\, Field House\, Bradford Royal Infirmary\, Bradford\, BD9 6RJ\, United Kingdom
CATEGORIES:Simulation Training
ORGANIZER;CN="Simulation Team":MAILTO:simulation.administration@bthft.nhs.uk
END:VEVENT
BEGIN:VEVENT
DTSTART;TZID=Europe/London:20260917T080000
DTEND;TZID=Europe/London:20260917T170000
DTSTAMP:20260420T013624
CREATED:20251023T105857Z
LAST-MODIFIED:20251107T130030Z
UID:10000029-1789632000-1789664400@www.bradfordeducationandtraining.nhs.uk
SUMMARY:Neck Breathers Study Day
DESCRIPTION:Join us for an interactive Neck Breathers Training Day designed for ALL healthcare professionals involved in caring for patients with neck breathers. This hands-on course combines theory and practical simulation to build confidence and enhance patient safety. \n📅 Date: 4th December 2025🕣 Time: 08:15 – 16:00📍 Venue: Simulation Centre\, Field House \n     Bookings:  To secure your place on the course please email simulation.administration@bthft.nhs.uk
URL:https://www.bradfordeducationandtraining.nhs.uk/event/neck-breathers-study-day/2026-09-17/
LOCATION:Simulation Centre\, Field House\, Bradford Royal Infirmary\, Bradford\, BD9 6RJ\, United Kingdom
CATEGORIES:Simulation Training
END:VEVENT
BEGIN:VEVENT
DTSTART;TZID=Europe/London:20260917T080000
DTEND;TZID=Europe/London:20260917T173000
DTSTAMP:20260420T013624
CREATED:20251107T135347Z
LAST-MODIFIED:20251222T125626Z
UID:10000086-1789632000-1789666200@www.bradfordeducationandtraining.nhs.uk
SUMMARY:eALS (Advanced Life Support) Course
DESCRIPTION:Course brochure \nThis is a Resuscitation Council UK accredited Advanced Life Support (eALS) course. To enquire about course dates and details\, please email bookings.resuscitation@bthft.nhs.uk
URL:https://www.bradfordeducationandtraining.nhs.uk/event/eals-advanced-life-support-course-2/2026-09-17/
LOCATION:Eurich Room\, B Floor\, Field House\, Bradford Royal Infirmary
CATEGORIES:Resuscitation
END:VEVENT
BEGIN:VEVENT
DTSTART;TZID=Europe/London:20260918T080000
DTEND;TZID=Europe/London:20260918T173000
DTSTAMP:20260420T013624
CREATED:20251107T135347Z
LAST-MODIFIED:20251222T125626Z
UID:10000087-1789718400-1789752600@www.bradfordeducationandtraining.nhs.uk
SUMMARY:eALS (Advanced Life Support) Course
DESCRIPTION:Course brochure \nThis is a Resuscitation Council UK accredited Advanced Life Support (eALS) course. To enquire about course dates and details\, please email bookings.resuscitation@bthft.nhs.uk
URL:https://www.bradfordeducationandtraining.nhs.uk/event/eals-advanced-life-support-course-2/2026-09-18/
LOCATION:Eurich Room\, B Floor\, Field House\, Bradford Royal Infirmary
CATEGORIES:Resuscitation
END:VEVENT
BEGIN:VEVENT
DTSTART;TZID=Europe/London:20260918T090000
DTEND;TZID=Europe/London:20260918T163000
DTSTAMP:20260420T013624
CREATED:20260304T151250Z
LAST-MODIFIED:20260304T151250Z
UID:10000287-1789722000-1789749000@www.bradfordeducationandtraining.nhs.uk
SUMMARY:Faculty Development Day
DESCRIPTION:This one day course provides learners with theoretical knowledge as well as hands on experience in planning and delivering a simulation session.  The course aims to deliver: \n\nPrinciples of simulation based education\nDebriefing / feedback skills\nHow to plan and develop scenarios\nHow to use simulation effectively as an educational method\nHands on introduction to using high fidelity manikins\n\nTo reserve your place on the course please email simulation.administration@bthft.nhs.uk
URL:https://www.bradfordeducationandtraining.nhs.uk/event/faculty-development-day-2/2026-09-18/
LOCATION:Simulation Centre\, Field House\, Bradford Royal Infirmary\, Bradford\, BD9 6RJ\, United Kingdom
CATEGORIES:Simulation Training
ORGANIZER;CN="Simulation Team":MAILTO:simulation.administration@bthft.nhs.uk
END:VEVENT
BEGIN:VEVENT
DTSTART;TZID=Europe/London:20260921T073000
DTEND;TZID=Europe/London:20260921T160000
DTSTAMP:20260420T013624
CREATED:20251107T143738Z
LAST-MODIFIED:20251222T125642Z
UID:10000152-1789975800-1790006400@www.bradfordeducationandtraining.nhs.uk
SUMMARY:PILS (Paediatric Immediate Life Support) Course
DESCRIPTION:Course brochure \nThis is a Resuscitation Council UK accredited Paediatric Immediate Life Support (PILS) course. To enquire about course dates and details\, please email bookings.resuscitation@bthft.nhs.uk
URL:https://www.bradfordeducationandtraining.nhs.uk/event/pils-paediatric-immediate-life-support-course-2/2026-09-21/
LOCATION:Eurich Room\, B Floor\, Field House\, Bradford Royal Infirmary
CATEGORIES:Resuscitation
END:VEVENT
BEGIN:VEVENT
DTSTART;TZID=Europe/London:20260922T080000
DTEND;TZID=Europe/London:20260922T160000
DTSTAMP:20260420T013624
CREATED:20251103T115420Z
LAST-MODIFIED:20251222T125707Z
UID:10000168-1790064000-1790092800@www.bradfordeducationandtraining.nhs.uk
SUMMARY:Basic Life Support (Adult)
DESCRIPTION:Course brochure \nMandatory Adult Basic Life Support (BLS) training. Please book your session through ESR under the heading 389 MAND Basic Life Support. Individual session timings and availability can be viewed directly on ESR—please ensure you book your space in advance to secure a slot.
URL:https://www.bradfordeducationandtraining.nhs.uk/event/basic-life-support-adult-4/2026-09-22/
LOCATION:Eurich Room\, B Floor\, Field House\, Bradford Royal Infirmary
CATEGORIES:Resuscitation
END:VEVENT
BEGIN:VEVENT
DTSTART;TZID=Europe/London:20260923T100000
DTEND;TZID=Europe/London:20260923T120000
DTSTAMP:20260420T013624
CREATED:20260304T142634Z
LAST-MODIFIED:20260304T142634Z
UID:10000267-1790157600-1790164800@www.bradfordeducationandtraining.nhs.uk
SUMMARY:Managing Patients Who Pose a Risk
DESCRIPTION:This 2 hour course provides attendees the skills to \n\nIdentify risks\nManaging risks in a clinical environment\nprovides hands on training to help you prepare for real life situations\nprovides skills and techniques to help care for patients who have altered cognition and perception.\n\nTo reserve your place on this session please email simulation.administration@bthft.nhs.uk
URL:https://www.bradfordeducationandtraining.nhs.uk/event/managing-patients-who-pose-a-risk/2026-09-23/
LOCATION:Simulation Centre\, Field House\, Bradford Royal Infirmary\, Bradford\, BD9 6RJ\, United Kingdom
CATEGORIES:Simulation Training
ORGANIZER;CN="Simulation Team":MAILTO:simulation.administration@bthft.nhs.uk
END:VEVENT
BEGIN:VEVENT
DTSTART;TZID=Europe/London:20260924T080000
DTEND;TZID=Europe/London:20260925T170000
DTSTAMP:20260420T013624
CREATED:20251107T135625Z
LAST-MODIFIED:20251222T125531Z
UID:10000089-1790236800-1790355600@www.bradfordeducationandtraining.nhs.uk
SUMMARY:EPALS (European Paediatric Advanced Life Support) Course
DESCRIPTION:Course brochure \nThis is a Resuscitation Council UK accredited European Paediatric Life Support (EPALS) course. To enquire about course dates and details\, please email bookings.resuscitation@bthft.nhs.uk
URL:https://www.bradfordeducationandtraining.nhs.uk/event/epals-european-paediatric-advanced-life-support-course-2/2026-09-24/
LOCATION:Eurich Room\, B Floor\, Field House\, Bradford Royal Infirmary
CATEGORIES:Resuscitation
END:VEVENT
BEGIN:VEVENT
DTSTART;TZID=Europe/London:20260928T083000
DTEND;TZID=Europe/London:20260928T163000
DTSTAMP:20260420T013624
CREATED:20260304T150814Z
LAST-MODIFIED:20260304T150814Z
UID:10000282-1790584200-1790613000@www.bradfordeducationandtraining.nhs.uk
SUMMARY:Critical Care Transfer Course
DESCRIPTION:This one day hands on practical simulation course focuses on the safe transfer of critically ill patients. \nUsing an ambulance and paramedic crew\, this course aims to highlight real experiences and highlights the risk element when transferring patients via ambulance. \nThis course is open to CT1&2 anaesthetic trainees and ACCS Trainees.
URL:https://www.bradfordeducationandtraining.nhs.uk/event/critical-care-transfer-course-2/2026-09-28/
LOCATION:Simulation Centre\, Field House\, Bradford Royal Infirmary\, Bradford\, BD9 6RJ\, United Kingdom
CATEGORIES:Simulation Training
ORGANIZER;CN="Simulation Team":MAILTO:simulation.administration@bthft.nhs.uk
END:VEVENT
BEGIN:VEVENT
DTSTART;TZID=Europe/London:20260929T073000
DTEND;TZID=Europe/London:20260929T160000
DTSTAMP:20260420T013624
CREATED:20251107T141600Z
LAST-MODIFIED:20251222T125604Z
UID:10000114-1790667000-1790697600@www.bradfordeducationandtraining.nhs.uk
SUMMARY:ILS (Immediate Life Support) Course
DESCRIPTION:Course brochure \nThis is a Resuscitation Council UK accredited Immediate Life Support (ILS) course. To enquire about course dates and details\, please email bookings.resuscitation@bthft.nhs.uk
URL:https://www.bradfordeducationandtraining.nhs.uk/event/ils-immediate-life-support-course-2/2026-09-29/
LOCATION:Eurich Room\, B Floor\, Field House\, Bradford Royal Infirmary
CATEGORIES:Resuscitation
END:VEVENT
BEGIN:VEVENT
DTSTART;TZID=Europe/London:20261001T073000
DTEND;TZID=Europe/London:20261001T160000
DTSTAMP:20260420T013624
CREATED:20251107T141600Z
LAST-MODIFIED:20251222T125604Z
UID:10000115-1790839800-1790870400@www.bradfordeducationandtraining.nhs.uk
SUMMARY:ILS (Immediate Life Support) Course
DESCRIPTION:Course brochure \nThis is a Resuscitation Council UK accredited Immediate Life Support (ILS) course. To enquire about course dates and details\, please email bookings.resuscitation@bthft.nhs.uk
URL:https://www.bradfordeducationandtraining.nhs.uk/event/ils-immediate-life-support-course-2/2026-10-01/
LOCATION:Eurich Room\, B Floor\, Field House\, Bradford Royal Infirmary
CATEGORIES:Resuscitation
END:VEVENT
BEGIN:VEVENT
DTSTART;TZID=Europe/London:20261005T073000
DTEND;TZID=Europe/London:20261005T170000
DTSTAMP:20260420T013624
CREATED:20251107T143105Z
LAST-MODIFIED:20251222T125545Z
UID:10000139-1791185400-1791219600@www.bradfordeducationandtraining.nhs.uk
SUMMARY:PILS (Paediatric Immediate Life Support) Course - Internal Paediatric Staff
DESCRIPTION:Course brochure \nThis is a Resuscitation Council UK accredited Paediatric Immediate Life Support (PILS) course. To enquire about course dates and details\, please email bookings.resuscitation@bthft.nhs.uk
URL:https://www.bradfordeducationandtraining.nhs.uk/event/pils-paediatric-immediate-life-support-course-internal-paediatric-staff/2026-10-05/
LOCATION:Eurich Room\, B Floor\, Field House\, Bradford Royal Infirmary
CATEGORIES:Resuscitation
END:VEVENT
BEGIN:VEVENT
DTSTART;TZID=Europe/London:20261013T073000
DTEND;TZID=Europe/London:20261013T160000
DTSTAMP:20260420T013624
CREATED:20251107T141600Z
LAST-MODIFIED:20251222T125604Z
UID:10000116-1791876600-1791907200@www.bradfordeducationandtraining.nhs.uk
SUMMARY:ILS (Immediate Life Support) Course
DESCRIPTION:Course brochure \nThis is a Resuscitation Council UK accredited Immediate Life Support (ILS) course. To enquire about course dates and details\, please email bookings.resuscitation@bthft.nhs.uk
URL:https://www.bradfordeducationandtraining.nhs.uk/event/ils-immediate-life-support-course-2/2026-10-13/
LOCATION:Eurich Room\, B Floor\, Field House\, Bradford Royal Infirmary
CATEGORIES:Resuscitation
END:VEVENT
BEGIN:VEVENT
DTSTART;TZID=Europe/London:20261014T080000
DTEND;TZID=Europe/London:20261014T160000
DTSTAMP:20260420T013624
CREATED:20251103T115420Z
LAST-MODIFIED:20251222T125707Z
UID:10000169-1791964800-1791993600@www.bradfordeducationandtraining.nhs.uk
SUMMARY:Basic Life Support (Adult)
DESCRIPTION:Course brochure \nMandatory Adult Basic Life Support (BLS) training. Please book your session through ESR under the heading 389 MAND Basic Life Support. Individual session timings and availability can be viewed directly on ESR—please ensure you book your space in advance to secure a slot.
URL:https://www.bradfordeducationandtraining.nhs.uk/event/basic-life-support-adult-4/2026-10-14/
LOCATION:Eurich Room\, B Floor\, Field House\, Bradford Royal Infirmary
CATEGORIES:Resuscitation
END:VEVENT
BEGIN:VEVENT
DTSTART;TZID=Europe/London:20261015T100000
DTEND;TZID=Europe/London:20261015T120000
DTSTAMP:20260420T013624
CREATED:20260304T142634Z
LAST-MODIFIED:20260304T142634Z
UID:10000268-1792058400-1792065600@www.bradfordeducationandtraining.nhs.uk
SUMMARY:Managing Patients Who Pose a Risk
DESCRIPTION:This 2 hour course provides attendees the skills to \n\nIdentify risks\nManaging risks in a clinical environment\nprovides hands on training to help you prepare for real life situations\nprovides skills and techniques to help care for patients who have altered cognition and perception.\n\nTo reserve your place on this session please email simulation.administration@bthft.nhs.uk
URL:https://www.bradfordeducationandtraining.nhs.uk/event/managing-patients-who-pose-a-risk/2026-10-15/
LOCATION:Simulation Centre\, Field House\, Bradford Royal Infirmary\, Bradford\, BD9 6RJ\, United Kingdom
CATEGORIES:Simulation Training
ORGANIZER;CN="Simulation Team":MAILTO:simulation.administration@bthft.nhs.uk
END:VEVENT
END:VCALENDAR